BEGIN:VCALENDAR
VERSION:2.0
PRODID:-//Kennett Square Preschool - ECPv6.15.10//NONSGML v1.0//EN
CALSCALE:GREGORIAN
METHOD:PUBLISH
X-WR-CALNAME:Kennett Square Preschool
X-ORIGINAL-URL:https://kennettsquarepreschool.com
X-WR-CALDESC:Events for Kennett Square Preschool
REFRESH-INTERVAL;VALUE=DURATION:PT1H
X-Robots-Tag:noindex
X-PUBLISHED-TTL:PT1H
BEGIN:VTIMEZONE
TZID:America/New_York
BEGIN:DAYLIGHT
TZOFFSETFROM:-0500
TZOFFSETTO:-0400
TZNAME:EDT
DTSTART:20250309T070000
END:DAYLIGHT
BEGIN:STANDARD
TZOFFSETFROM:-0400
TZOFFSETTO:-0500
TZNAME:EST
DTSTART:20251102T060000
END:STANDARD
BEGIN:DAYLIGHT
TZOFFSETFROM:-0500
TZOFFSETTO:-0400
TZNAME:EDT
DTSTART:20260308T070000
END:DAYLIGHT
BEGIN:STANDARD
TZOFFSETFROM:-0400
TZOFFSETTO:-0500
TZNAME:EST
DTSTART:20261101T060000
END:STANDARD
BEGIN:DAYLIGHT
TZOFFSETFROM:-0500
TZOFFSETTO:-0400
TZNAME:EDT
DTSTART:20270314T070000
END:DAYLIGHT
BEGIN:STANDARD
TZOFFSETFROM:-0400
TZOFFSETTO:-0500
TZNAME:EST
DTSTART:20271107T060000
END:STANDARD
END:VTIMEZONE
BEGIN:VEVENT
DTSTART;VALUE=DATE:20260131
DTEND;VALUE=DATE:20260202
DTSTAMP:20260423T150122
CREATED:20250506T180528Z
LAST-MODIFIED:20250506T180528Z
UID:6101-1769886000-1769972399@kennettsquarepreschool.com
SUMMARY:Tuition Due
DESCRIPTION:
URL:https://kennettsquarepreschool.com/schedule/tuition-due-41/
END:VEVENT
BEGIN:VEVENT
DTSTART;TZID=America/New_York:20260205T123000
DTEND;TZID=America/New_York:20260205T140000
DTSTAMP:20260423T150122
CREATED:20250506T180634Z
LAST-MODIFIED:20250506T180634Z
UID:6103-1770294600-1770300000@kennettsquarepreschool.com
SUMMARY:Valentine's Day Dance*
DESCRIPTION:*Date subject to change.
URL:https://kennettsquarepreschool.com/schedule/valentines-day-dance-6/
END:VEVENT
BEGIN:VEVENT
DTSTART;VALUE=DATE:20260205
DTEND;VALUE=DATE:20260207
DTSTAMP:20260423T150122
CREATED:20250506T180841Z
LAST-MODIFIED:20250506T180841Z
UID:6107-1770318000-1770404399@kennettsquarepreschool.com
SUMMARY:New Family Registration Begins
DESCRIPTION:
URL:https://kennettsquarepreschool.com/schedule/new-family-registration-begins-5/
END:VEVENT
BEGIN:VEVENT
DTSTART;TZID=America/New_York:20260206T073000
DTEND;TZID=America/New_York:20260206T093000
DTSTAMP:20260423T150122
CREATED:20250506T180754Z
LAST-MODIFIED:20251119T213321Z
UID:6105-1770363000-1770370200@kennettsquarepreschool.com
SUMMARY:Open House*
DESCRIPTION:*Snow Date 2/13.
URL:https://kennettsquarepreschool.com/schedule/open-house-7/
END:VEVENT
BEGIN:VEVENT
DTSTART;VALUE=DATE:20260211
DTEND;VALUE=DATE:20260214
DTSTAMP:20260423T150122
CREATED:20250506T180920Z
LAST-MODIFIED:20250506T180920Z
UID:6109-1770836400-1771009199@kennettsquarepreschool.com
SUMMARY:Valentine's Day Parties
DESCRIPTION:
URL:https://kennettsquarepreschool.com/schedule/valentines-day-parties-5/
END:VEVENT
BEGIN:VEVENT
DTSTART;VALUE=DATE:20260215
DTEND;VALUE=DATE:20260218
DTSTAMP:20260423T150122
CREATED:20250506T181001Z
LAST-MODIFIED:20250506T181001Z
UID:6111-1771182000-1771354799@kennettsquarepreschool.com
SUMMARY:No School - Presidents' Day
DESCRIPTION:
URL:https://kennettsquarepreschool.com/schedule/no-school-presidents-day-2/
END:VEVENT
BEGIN:VEVENT
DTSTART;VALUE=DATE:20260228
DTEND;VALUE=DATE:20260302
DTSTAMP:20260423T150122
CREATED:20250506T181117Z
LAST-MODIFIED:20250506T181117Z
UID:6113-1772305200-1772391599@kennettsquarepreschool.com
SUMMARY:Tuition Due
DESCRIPTION:
URL:https://kennettsquarepreschool.com/schedule/tuition-due-42/
END:VEVENT
END:VCALENDAR