BEGIN:VCALENDAR
VERSION:2.0
PRODID:-//Kennett Square Preschool - ECPv6.15.10//NONSGML v1.0//EN
CALSCALE:GREGORIAN
METHOD:PUBLISH
X-WR-CALNAME:Kennett Square Preschool
X-ORIGINAL-URL:https://kennettsquarepreschool.com
X-WR-CALDESC:Events for Kennett Square Preschool
REFRESH-INTERVAL;VALUE=DURATION:PT1H
X-Robots-Tag:noindex
X-PUBLISHED-TTL:PT1H
BEGIN:VTIMEZONE
TZID:America/New_York
BEGIN:DAYLIGHT
TZOFFSETFROM:-0500
TZOFFSETTO:-0400
TZNAME:EDT
DTSTART:20240310T070000
END:DAYLIGHT
BEGIN:STANDARD
TZOFFSETFROM:-0400
TZOFFSETTO:-0500
TZNAME:EST
DTSTART:20241103T060000
END:STANDARD
BEGIN:DAYLIGHT
TZOFFSETFROM:-0500
TZOFFSETTO:-0400
TZNAME:EDT
DTSTART:20250309T070000
END:DAYLIGHT
BEGIN:STANDARD
TZOFFSETFROM:-0400
TZOFFSETTO:-0500
TZNAME:EST
DTSTART:20251102T060000
END:STANDARD
BEGIN:DAYLIGHT
TZOFFSETFROM:-0500
TZOFFSETTO:-0400
TZNAME:EDT
DTSTART:20260308T070000
END:DAYLIGHT
BEGIN:STANDARD
TZOFFSETFROM:-0400
TZOFFSETTO:-0500
TZNAME:EST
DTSTART:20261101T060000
END:STANDARD
END:VTIMEZONE
BEGIN:VEVENT
DTSTART;TZID=America/New_York:20250823T050000
DTEND;TZID=America/New_York:20250823T080000
DTSTAMP:20260424T014646
CREATED:20250506T173751Z
LAST-MODIFIED:20250506T173751Z
UID:6051-1755925200-1755936000@kennettsquarepreschool.com
SUMMARY:Playground Clean Up Day
DESCRIPTION:
URL:https://kennettsquarepreschool.com/schedule/playground-clean-up-day/
END:VEVENT
BEGIN:VEVENT
DTSTART;TZID=America/New_York:20250824T050000
DTEND;TZID=America/New_York:20250824T080000
DTSTAMP:20260424T014646
CREATED:20250506T173920Z
LAST-MODIFIED:20250506T173920Z
UID:6053-1756011600-1756022400@kennettsquarepreschool.com
SUMMARY:RAIN DATE: Playground Clean Up Day
DESCRIPTION:
URL:https://kennettsquarepreschool.com/schedule/rain-date-playground-clean-up-day/
END:VEVENT
BEGIN:VEVENT
DTSTART;VALUE=DATE:20250824
DTEND;VALUE=DATE:20250827
DTSTAMP:20260424T014646
CREATED:20250506T174109Z
LAST-MODIFIED:20250506T174109Z
UID:6055-1756065600-1756238399@kennettsquarepreschool.com
SUMMARY:Teacher In-Service Days
DESCRIPTION:
URL:https://kennettsquarepreschool.com/schedule/teacher-in-service-days/
END:VEVENT
BEGIN:VEVENT
DTSTART;TZID=America/New_York:20250827T130000
DTEND;TZID=America/New_York:20250827T143000
DTSTAMP:20260424T014646
CREATED:20250506T174229Z
LAST-MODIFIED:20250506T174229Z
UID:6057-1756299600-1756305000@kennettsquarepreschool.com
SUMMARY:Parent Orientation
DESCRIPTION:
URL:https://kennettsquarepreschool.com/schedule/parent-orientation-6/
END:VEVENT
BEGIN:VEVENT
DTSTART;TZID=America/New_York:20250827T143000
DTEND;TZID=America/New_York:20250827T170000
DTSTAMP:20260424T014646
CREATED:20250506T195733Z
LAST-MODIFIED:20250506T195833Z
UID:6155-1756305000-1756314000@kennettsquarepreschool.com
SUMMARY:Parent Night Out
DESCRIPTION:Current (2025-2026) KSPC parents event.
URL:https://kennettsquarepreschool.com/schedule/parent-night-out/
END:VEVENT
END:VCALENDAR