BEGIN:VCALENDAR
VERSION:2.0
PRODID:-//Kennett Square Preschool - ECPv6.15.10//NONSGML v1.0//EN
CALSCALE:GREGORIAN
METHOD:PUBLISH
X-WR-CALNAME:Kennett Square Preschool
X-ORIGINAL-URL:https://kennettsquarepreschool.com
X-WR-CALDESC:Events for Kennett Square Preschool
REFRESH-INTERVAL;VALUE=DURATION:PT1H
X-Robots-Tag:noindex
X-PUBLISHED-TTL:PT1H
BEGIN:VTIMEZONE
TZID:America/New_York
BEGIN:DAYLIGHT
TZOFFSETFROM:-0500
TZOFFSETTO:-0400
TZNAME:EDT
DTSTART:20240310T070000
END:DAYLIGHT
BEGIN:STANDARD
TZOFFSETFROM:-0400
TZOFFSETTO:-0500
TZNAME:EST
DTSTART:20241103T060000
END:STANDARD
BEGIN:DAYLIGHT
TZOFFSETFROM:-0500
TZOFFSETTO:-0400
TZNAME:EDT
DTSTART:20250309T070000
END:DAYLIGHT
BEGIN:STANDARD
TZOFFSETFROM:-0400
TZOFFSETTO:-0500
TZNAME:EST
DTSTART:20251102T060000
END:STANDARD
BEGIN:DAYLIGHT
TZOFFSETFROM:-0500
TZOFFSETTO:-0400
TZNAME:EDT
DTSTART:20260308T070000
END:DAYLIGHT
BEGIN:STANDARD
TZOFFSETFROM:-0400
TZOFFSETTO:-0500
TZNAME:EST
DTSTART:20261101T060000
END:STANDARD
END:VTIMEZONE
BEGIN:VEVENT
DTSTART;VALUE=DATE:20250228
DTEND;VALUE=DATE:20250302
DTSTAMP:20260424T113426
CREATED:20240323T165352Z
LAST-MODIFIED:20240323T223945Z
UID:5857-1740769200-1740855599@kennettsquarepreschool.com
SUMMARY:Tuition Due
DESCRIPTION:
URL:https://kennettsquarepreschool.com/schedule/tuition-due-32/
END:VEVENT
BEGIN:VEVENT
DTSTART;VALUE=DATE:20250302
DTEND;VALUE=DATE:20250305
DTSTAMP:20260424T113426
CREATED:20240323T165352Z
LAST-MODIFIED:20240323T225200Z
UID:5874-1740942000-1741114799@kennettsquarepreschool.com
SUMMARY:Dr. Seuss Days
DESCRIPTION:
URL:https://kennettsquarepreschool.com/schedule/dr-seuss-days-5/
END:VEVENT
BEGIN:VEVENT
DTSTART;VALUE=DATE:20250312
DTEND;VALUE=DATE:20250315
DTSTAMP:20260424T113426
CREATED:20240323T165352Z
LAST-MODIFIED:20240323T225142Z
UID:5876-1741809600-1741982399@kennettsquarepreschool.com
SUMMARY:St. Patrick's Day Parties
DESCRIPTION:
URL:https://kennettsquarepreschool.com/schedule/st-patricks-day-parties-5/
END:VEVENT
BEGIN:VEVENT
DTSTART;VALUE=DATE:20250327
DTEND;VALUE=DATE:20250329
DTSTAMP:20260424T113426
CREATED:20240323T165352Z
LAST-MODIFIED:20240323T224911Z
UID:5881-1743105600-1743191999@kennettsquarepreschool.com
SUMMARY:Closed - Teacher Inservice Day
DESCRIPTION:
URL:https://kennettsquarepreschool.com/schedule/closed-teacher-inservice-day-2/
END:VEVENT
BEGIN:VEVENT
DTSTART;VALUE=DATE:20250331
DTEND;VALUE=DATE:20250402
DTSTAMP:20260424T113426
CREATED:20240323T165352Z
LAST-MODIFIED:20240323T223909Z
UID:5849-1743451200-1743537599@kennettsquarepreschool.com
SUMMARY:Tuition Due
DESCRIPTION:
URL:https://kennettsquarepreschool.com/schedule/tuition-due-30/
END:VEVENT
END:VCALENDAR