BEGIN:VCALENDAR
VERSION:2.0
PRODID:-//Kennett Square Preschool - ECPv6.15.10//NONSGML v1.0//EN
CALSCALE:GREGORIAN
METHOD:PUBLISH
X-WR-CALNAME:Kennett Square Preschool
X-ORIGINAL-URL:https://kennettsquarepreschool.com
X-WR-CALDESC:Events for Kennett Square Preschool
REFRESH-INTERVAL;VALUE=DURATION:PT1H
X-Robots-Tag:noindex
X-PUBLISHED-TTL:PT1H
BEGIN:VTIMEZONE
TZID:America/New_York
BEGIN:DAYLIGHT
TZOFFSETFROM:-0500
TZOFFSETTO:-0400
TZNAME:EDT
DTSTART:20220313T070000
END:DAYLIGHT
BEGIN:STANDARD
TZOFFSETFROM:-0400
TZOFFSETTO:-0500
TZNAME:EST
DTSTART:20221106T060000
END:STANDARD
BEGIN:DAYLIGHT
TZOFFSETFROM:-0500
TZOFFSETTO:-0400
TZNAME:EDT
DTSTART:20230312T070000
END:DAYLIGHT
BEGIN:STANDARD
TZOFFSETFROM:-0400
TZOFFSETTO:-0500
TZNAME:EST
DTSTART:20231105T060000
END:STANDARD
BEGIN:DAYLIGHT
TZOFFSETFROM:-0500
TZOFFSETTO:-0400
TZNAME:EDT
DTSTART:20240310T070000
END:DAYLIGHT
BEGIN:STANDARD
TZOFFSETFROM:-0400
TZOFFSETTO:-0500
TZNAME:EST
DTSTART:20241103T060000
END:STANDARD
BEGIN:DAYLIGHT
TZOFFSETFROM:-0500
TZOFFSETTO:-0400
TZNAME:EDT
DTSTART:20250309T070000
END:DAYLIGHT
BEGIN:STANDARD
TZOFFSETFROM:-0400
TZOFFSETTO:-0500
TZNAME:EST
DTSTART:20251102T060000
END:STANDARD
END:VTIMEZONE
BEGIN:VEVENT
DTSTART;VALUE=DATE:20231217
DTEND;VALUE=DATE:20240101
DTSTAMP:20260425T094740
CREATED:20230715T162417Z
LAST-MODIFIED:20230715T162542Z
UID:4664-1702839600-1704049200@kennettsquarepreschool.com
SUMMARY:Winter Break
DESCRIPTION:
URL:https://kennettsquarepreschool.com/schedule/winter-break-3/
CATEGORIES:Closed
END:VEVENT
BEGIN:VEVENT
DTSTART;VALUE=DATE:20240101
DTEND;VALUE=DATE:20240102
DTSTAMP:20260425T094740
CREATED:20230715T162441Z
LAST-MODIFIED:20230715T162441Z
UID:4666-1704135600-1704135600@kennettsquarepreschool.com
SUMMARY:Tuition Due
DESCRIPTION:
URL:https://kennettsquarepreschool.com/schedule/tuition-due-25/
CATEGORIES:Tuition
END:VEVENT
BEGIN:VEVENT
DTSTART;VALUE=DATE:20240101
DTEND;VALUE=DATE:20240102
DTSTAMP:20260425T094740
CREATED:20230715T162608Z
LAST-MODIFIED:20230715T162608Z
UID:4669-1704135600-1704135600@kennettsquarepreschool.com
SUMMARY:School Resumes
DESCRIPTION:
URL:https://kennettsquarepreschool.com/schedule/school-resumes/
CATEGORIES:Other
END:VEVENT
BEGIN:VEVENT
DTSTART;VALUE=DATE:20240102
DTEND;VALUE=DATE:20240103
DTSTAMP:20260425T094740
CREATED:20230715T162640Z
LAST-MODIFIED:20230715T162640Z
UID:4671-1704222000-1704222000@kennettsquarepreschool.com
SUMMARY:Registration (current students & alumni)
DESCRIPTION:
URL:https://kennettsquarepreschool.com/schedule/registration-current-students-alumni/
CATEGORIES:Other
END:VEVENT
BEGIN:VEVENT
DTSTART;VALUE=DATE:20240114
DTEND;VALUE=DATE:20240115
DTSTAMP:20260425T094740
CREATED:20230715T162704Z
LAST-MODIFIED:20230715T162704Z
UID:4673-1705258800-1705258800@kennettsquarepreschool.com
SUMMARY:Closed - MLK Day
DESCRIPTION:
URL:https://kennettsquarepreschool.com/schedule/closed-mlk-day/
CATEGORIES:Closed
END:VEVENT
BEGIN:VEVENT
DTSTART;TZID=America/New_York:20240117T190000
DTEND;TZID=America/New_York:20240117T190000
DTSTAMP:20260425T094740
CREATED:20230715T162743Z
LAST-MODIFIED:20230715T162743Z
UID:4675-1705518000-1705518000@kennettsquarepreschool.com
SUMMARY:Open House
DESCRIPTION:
URL:https://kennettsquarepreschool.com/schedule/open-house/
CATEGORIES:Other
END:VEVENT
BEGIN:VEVENT
DTSTART;VALUE=DATE:20240124
DTEND;VALUE=DATE:20240126
DTSTAMP:20260425T094740
CREATED:20230715T162808Z
LAST-MODIFIED:20230715T162808Z
UID:4677-1706122800-1706209200@kennettsquarepreschool.com
SUMMARY:Teddy Bear Picnic
DESCRIPTION:
URL:https://kennettsquarepreschool.com/schedule/teddy-bear-picnic/
CATEGORIES:Party
END:VEVENT
BEGIN:VEVENT
DTSTART;VALUE=DATE:20240131
DTEND;VALUE=DATE:20240201
DTSTAMP:20260425T094740
CREATED:20230715T162832Z
LAST-MODIFIED:20230715T162832Z
UID:4679-1706727600-1706727600@kennettsquarepreschool.com
SUMMARY:Tuition Due
DESCRIPTION:
URL:https://kennettsquarepreschool.com/schedule/tuition-due-26/
CATEGORIES:Tuition
END:VEVENT
BEGIN:VEVENT
DTSTART;VALUE=DATE:20240131
DTEND;VALUE=DATE:20240201
DTSTAMP:20260425T094740
CREATED:20230715T162853Z
LAST-MODIFIED:20230715T162853Z
UID:4681-1706727600-1706727600@kennettsquarepreschool.com
SUMMARY:New Family Registration Begins
DESCRIPTION:
URL:https://kennettsquarepreschool.com/schedule/new-family-registration-begins-3/
CATEGORIES:Other
END:VEVENT
END:VCALENDAR