BEGIN:VCALENDAR
VERSION:2.0
PRODID:-//Kennett Square Preschool - ECPv6.15.10//NONSGML v1.0//EN
CALSCALE:GREGORIAN
METHOD:PUBLISH
X-WR-CALNAME:Kennett Square Preschool
X-ORIGINAL-URL:https://kennettsquarepreschool.com
X-WR-CALDESC:Events for Kennett Square Preschool
REFRESH-INTERVAL;VALUE=DURATION:PT1H
X-Robots-Tag:noindex
X-PUBLISHED-TTL:PT1H
BEGIN:VTIMEZONE
TZID:America/New_York
BEGIN:DAYLIGHT
TZOFFSETFROM:-0500
TZOFFSETTO:-0400
TZNAME:EDT
DTSTART:20220313T070000
END:DAYLIGHT
BEGIN:STANDARD
TZOFFSETFROM:-0400
TZOFFSETTO:-0500
TZNAME:EST
DTSTART:20221106T060000
END:STANDARD
BEGIN:DAYLIGHT
TZOFFSETFROM:-0500
TZOFFSETTO:-0400
TZNAME:EDT
DTSTART:20230312T070000
END:DAYLIGHT
BEGIN:STANDARD
TZOFFSETFROM:-0400
TZOFFSETTO:-0500
TZNAME:EST
DTSTART:20231105T060000
END:STANDARD
BEGIN:DAYLIGHT
TZOFFSETFROM:-0500
TZOFFSETTO:-0400
TZNAME:EDT
DTSTART:20240310T070000
END:DAYLIGHT
BEGIN:STANDARD
TZOFFSETFROM:-0400
TZOFFSETTO:-0500
TZNAME:EST
DTSTART:20241103T060000
END:STANDARD
END:VTIMEZONE
BEGIN:VEVENT
DTSTART;VALUE=DATE:20231130
DTEND;VALUE=DATE:20231201
DTSTAMP:20260425T113236
CREATED:20230715T161940Z
LAST-MODIFIED:20230715T161940Z
UID:4655-1701370800-1701370800@kennettsquarepreschool.com
SUMMARY:Tuition Due
DESCRIPTION:
URL:https://kennettsquarepreschool.com/schedule/tuition-due-24/
CATEGORIES:Tuition
END:VEVENT
BEGIN:VEVENT
DTSTART;VALUE=DATE:20231210
DTEND;VALUE=DATE:20231212
DTSTAMP:20260425T113236
CREATED:20230715T162013Z
LAST-MODIFIED:20230715T162013Z
UID:4657-1702234800-1702321200@kennettsquarepreschool.com
SUMMARY:Polar Express*
DESCRIPTION:*Dates are subject to change
URL:https://kennettsquarepreschool.com/schedule/polar-express-4/
CATEGORIES:Party
END:VEVENT
BEGIN:VEVENT
DTSTART;TZID=America/New_York:20231210T190000
DTEND;TZID=America/New_York:20231210T190000
DTSTAMP:20260425T113236
CREATED:20230715T162137Z
LAST-MODIFIED:20230715T162137Z
UID:4659-1702234800-1702234800@kennettsquarepreschool.com
SUMMARY:Holiday Program*
DESCRIPTION:*Dates subject to change
URL:https://kennettsquarepreschool.com/schedule/holiday-program-5/
CATEGORIES:Other
END:VEVENT
BEGIN:VEVENT
DTSTART;TZID=America/New_York:20231214T190000
DTEND;TZID=America/New_York:20231214T190000
DTSTAMP:20260425T113236
CREATED:20230715T162329Z
LAST-MODIFIED:20230715T162329Z
UID:4662-1702580400-1702580400@kennettsquarepreschool.com
SUMMARY:Holiday Program*
DESCRIPTION:*Dates subject to change
URL:https://kennettsquarepreschool.com/schedule/holiday-program-6/
CATEGORIES:Other
END:VEVENT
BEGIN:VEVENT
DTSTART;VALUE=DATE:20231217
DTEND;VALUE=DATE:20240101
DTSTAMP:20260425T113236
CREATED:20230715T162417Z
LAST-MODIFIED:20230715T162542Z
UID:4664-1702839600-1704049200@kennettsquarepreschool.com
SUMMARY:Winter Break
DESCRIPTION:
URL:https://kennettsquarepreschool.com/schedule/winter-break-3/
CATEGORIES:Closed
END:VEVENT
END:VCALENDAR