BEGIN:VCALENDAR
VERSION:2.0
PRODID:-//Kennett Square Preschool - ECPv6.15.10//NONSGML v1.0//EN
CALSCALE:GREGORIAN
METHOD:PUBLISH
X-ORIGINAL-URL:https://kennettsquarepreschool.com
X-WR-CALDESC:Events for Kennett Square Preschool
REFRESH-INTERVAL;VALUE=DURATION:PT1H
X-Robots-Tag:noindex
X-PUBLISHED-TTL:PT1H
BEGIN:VTIMEZONE
TZID:America/New_York
BEGIN:DAYLIGHT
TZOFFSETFROM:-0500
TZOFFSETTO:-0400
TZNAME:EDT
DTSTART:20220313T070000
END:DAYLIGHT
BEGIN:STANDARD
TZOFFSETFROM:-0400
TZOFFSETTO:-0500
TZNAME:EST
DTSTART:20221106T060000
END:STANDARD
BEGIN:DAYLIGHT
TZOFFSETFROM:-0500
TZOFFSETTO:-0400
TZNAME:EDT
DTSTART:20230312T070000
END:DAYLIGHT
BEGIN:STANDARD
TZOFFSETFROM:-0400
TZOFFSETTO:-0500
TZNAME:EST
DTSTART:20231105T060000
END:STANDARD
BEGIN:DAYLIGHT
TZOFFSETFROM:-0500
TZOFFSETTO:-0400
TZNAME:EDT
DTSTART:20240310T070000
END:DAYLIGHT
BEGIN:STANDARD
TZOFFSETFROM:-0400
TZOFFSETTO:-0500
TZNAME:EST
DTSTART:20241103T060000
END:STANDARD
END:VTIMEZONE
BEGIN:VEVENT
DTSTART;VALUE=DATE:20230905
DTEND;VALUE=DATE:20230906
DTSTAMP:20260425T161507
CREATED:20230715T161020Z
LAST-MODIFIED:20230715T161020Z
UID:4631-1693944000-1693944000@kennettsquarepreschool.com
SUMMARY:Student Orientation
DESCRIPTION:
URL:https://kennettsquarepreschool.com/schedule/student-orientation-2/
CATEGORIES:Other
END:VEVENT
BEGIN:VEVENT
DTSTART;VALUE=DATE:20230906
DTEND;VALUE=DATE:20230908
DTSTAMP:20260425T161507
CREATED:20230715T161045Z
LAST-MODIFIED:20230715T161045Z
UID:4633-1694030400-1694116800@kennettsquarepreschool.com
SUMMARY:First Days of School
DESCRIPTION:
URL:https://kennettsquarepreschool.com/schedule/first-days-of-school-2/
CATEGORIES:Other
END:VEVENT
BEGIN:VEVENT
DTSTART;VALUE=DATE:20230924
DTEND;VALUE=DATE:20230925
DTSTAMP:20260425T161507
CREATED:20230715T161207Z
LAST-MODIFIED:20230715T161207Z
UID:4635-1695585600-1695585600@kennettsquarepreschool.com
SUMMARY:No School - Yom Kippur
DESCRIPTION:
URL:https://kennettsquarepreschool.com/schedule/no-school-yom-kippur/
CATEGORIES:Closed
END:VEVENT
BEGIN:VEVENT
DTSTART;VALUE=DATE:20230925
DTEND;VALUE=DATE:20230927
DTSTAMP:20260425T161507
CREATED:20230715T161249Z
LAST-MODIFIED:20230715T161249Z
UID:4637-1695672000-1695758400@kennettsquarepreschool.com
SUMMARY:Orchard Trips*
DESCRIPTION:*Dates are subject to change
URL:https://kennettsquarepreschool.com/schedule/orchard-trips-2/
CATEGORIES:Trip
END:VEVENT
BEGIN:VEVENT
DTSTART;VALUE=DATE:20230930
DTEND;VALUE=DATE:20231001
DTSTAMP:20260425T161507
CREATED:20230715T161450Z
LAST-MODIFIED:20230715T161450Z
UID:4639-1696104000-1696104000@kennettsquarepreschool.com
SUMMARY:Tuition Due
DESCRIPTION:
URL:https://kennettsquarepreschool.com/schedule/tuition-due-22/
CATEGORIES:Tuition
END:VEVENT
END:VCALENDAR