BEGIN:VCALENDAR
VERSION:2.0
PRODID:-//Kennett Square Preschool - ECPv6.15.10//NONSGML v1.0//EN
CALSCALE:GREGORIAN
METHOD:PUBLISH
X-WR-CALNAME:Kennett Square Preschool
X-ORIGINAL-URL:https://kennettsquarepreschool.com
X-WR-CALDESC:Events for Kennett Square Preschool
REFRESH-INTERVAL;VALUE=DURATION:PT1H
X-Robots-Tag:noindex
X-PUBLISHED-TTL:PT1H
BEGIN:VTIMEZONE
TZID:America/New_York
BEGIN:DAYLIGHT
TZOFFSETFROM:-0500
TZOFFSETTO:-0400
TZNAME:EDT
DTSTART:20220313T070000
END:DAYLIGHT
BEGIN:STANDARD
TZOFFSETFROM:-0400
TZOFFSETTO:-0500
TZNAME:EST
DTSTART:20221106T060000
END:STANDARD
BEGIN:DAYLIGHT
TZOFFSETFROM:-0500
TZOFFSETTO:-0400
TZNAME:EDT
DTSTART:20230312T070000
END:DAYLIGHT
BEGIN:STANDARD
TZOFFSETFROM:-0400
TZOFFSETTO:-0500
TZNAME:EST
DTSTART:20231105T060000
END:STANDARD
BEGIN:DAYLIGHT
TZOFFSETFROM:-0500
TZOFFSETTO:-0400
TZNAME:EDT
DTSTART:20240310T070000
END:DAYLIGHT
BEGIN:STANDARD
TZOFFSETFROM:-0400
TZOFFSETTO:-0500
TZNAME:EST
DTSTART:20241103T060000
END:STANDARD
END:VTIMEZONE
BEGIN:VEVENT
DTSTART;VALUE=DATE:20230430
DTEND;VALUE=DATE:20230502
DTSTAMP:20260425T220721
CREATED:20220516T043936Z
LAST-MODIFIED:20220516T043936Z
UID:4525-1682884800-1682971199@kennettsquarepreschool.com
SUMMARY:Tuition Due
DESCRIPTION:
URL:https://kennettsquarepreschool.com/schedule/tuition-due-21/
CATEGORIES:Tuition
END:VEVENT
BEGIN:VEVENT
DTSTART;VALUE=DATE:20230507
DTEND;VALUE=DATE:20230510
DTSTAMP:20260425T220721
CREATED:20220516T044220Z
LAST-MODIFIED:20220516T044220Z
UID:4527-1683489600-1683662399@kennettsquarepreschool.com
SUMMARY:Field Days
DESCRIPTION:
URL:https://kennettsquarepreschool.com/schedule/field-days-3/
CATEGORIES:Trip
END:VEVENT
BEGIN:VEVENT
DTSTART;VALUE=DATE:20230510
DTEND;VALUE=DATE:20230513
DTSTAMP:20260425T220721
CREATED:20220516T044244Z
LAST-MODIFIED:20220516T044244Z
UID:4529-1683748800-1683921599@kennettsquarepreschool.com
SUMMARY:Mother's Day Presentations
DESCRIPTION:
URL:https://kennettsquarepreschool.com/schedule/mothers-day-presentations-3/
CATEGORIES:Other
END:VEVENT
BEGIN:VEVENT
DTSTART;VALUE=DATE:20230514
DTEND;VALUE=DATE:20230517
DTSTAMP:20260425T220721
CREATED:20220516T044307Z
LAST-MODIFIED:20220516T044307Z
UID:4531-1684094400-1684267199@kennettsquarepreschool.com
SUMMARY:Trips to Anson B. Nixon Park
DESCRIPTION:
URL:https://kennettsquarepreschool.com/schedule/trips-to-anson-b-nixon-park-2/
CATEGORIES:Trip
END:VEVENT
BEGIN:VEVENT
DTSTART;VALUE=DATE:20230517
DTEND;VALUE=DATE:20230520
DTSTAMP:20260425T220721
CREATED:20220516T044327Z
LAST-MODIFIED:20220516T044340Z
UID:4533-1684353600-1684526399@kennettsquarepreschool.com
SUMMARY:Last Day for Students Celebration
DESCRIPTION:
URL:https://kennettsquarepreschool.com/schedule/last-day-for-students-2/
CATEGORIES:Party
END:VEVENT
BEGIN:VEVENT
DTSTART;VALUE=DATE:20230521
DTEND;VALUE=DATE:20230526
DTSTAMP:20260425T220721
CREATED:20220516T044402Z
LAST-MODIFIED:20220516T044402Z
UID:4536-1684699200-1685044799@kennettsquarepreschool.com
SUMMARY:Summer Camp #1
DESCRIPTION:
URL:https://kennettsquarepreschool.com/schedule/summer-camp-1-3/
CATEGORIES:Other
END:VEVENT
BEGIN:VEVENT
DTSTART;VALUE=DATE:20230529
DTEND;VALUE=DATE:20230603
DTSTAMP:20260425T220721
CREATED:20220516T044435Z
LAST-MODIFIED:20220516T044435Z
UID:4538-1685390400-1685735999@kennettsquarepreschool.com
SUMMARY:Summer Camp #2
DESCRIPTION:
URL:https://kennettsquarepreschool.com/schedule/summer-camp-2-3/
CATEGORIES:Other
END:VEVENT
END:VCALENDAR