BEGIN:VCALENDAR
VERSION:2.0
PRODID:-//Kennett Square Preschool - ECPv6.15.10//NONSGML v1.0//EN
CALSCALE:GREGORIAN
METHOD:PUBLISH
X-WR-CALNAME:Kennett Square Preschool
X-ORIGINAL-URL:https://kennettsquarepreschool.com
X-WR-CALDESC:Events for Kennett Square Preschool
REFRESH-INTERVAL;VALUE=DURATION:PT1H
X-Robots-Tag:noindex
X-PUBLISHED-TTL:PT1H
BEGIN:VTIMEZONE
TZID:America/New_York
BEGIN:DAYLIGHT
TZOFFSETFROM:-0500
TZOFFSETTO:-0400
TZNAME:EDT
DTSTART:20230312T070000
END:DAYLIGHT
BEGIN:STANDARD
TZOFFSETFROM:-0400
TZOFFSETTO:-0500
TZNAME:EST
DTSTART:20231105T060000
END:STANDARD
BEGIN:DAYLIGHT
TZOFFSETFROM:-0500
TZOFFSETTO:-0400
TZNAME:EDT
DTSTART:20240310T070000
END:DAYLIGHT
BEGIN:STANDARD
TZOFFSETFROM:-0400
TZOFFSETTO:-0500
TZNAME:EST
DTSTART:20241103T060000
END:STANDARD
BEGIN:DAYLIGHT
TZOFFSETFROM:-0500
TZOFFSETTO:-0400
TZNAME:EDT
DTSTART:20250309T070000
END:DAYLIGHT
BEGIN:STANDARD
TZOFFSETFROM:-0400
TZOFFSETTO:-0500
TZNAME:EST
DTSTART:20251102T060000
END:STANDARD
BEGIN:DAYLIGHT
TZOFFSETFROM:-0500
TZOFFSETTO:-0400
TZNAME:EDT
DTSTART:20260308T070000
END:DAYLIGHT
BEGIN:STANDARD
TZOFFSETFROM:-0400
TZOFFSETTO:-0500
TZNAME:EST
DTSTART:20261101T060000
END:STANDARD
END:VTIMEZONE
BEGIN:VEVENT
DTSTART;VALUE=DATE:20250119
DTEND;VALUE=DATE:20250121
DTSTAMP:20260424T104344
CREATED:20240323T165352Z
LAST-MODIFIED:20240323T225547Z
UID:5865-1737313200-1737399599@kennettsquarepreschool.com
SUMMARY:Closed - MLK Day
DESCRIPTION:
URL:https://kennettsquarepreschool.com/schedule/closed-mlk-day-2/
END:VEVENT
BEGIN:VEVENT
DTSTART;VALUE=DATE:20250105
DTEND;VALUE=DATE:20250107
DTSTAMP:20260424T104344
CREATED:20240323T165352Z
LAST-MODIFIED:20240323T225603Z
UID:5864-1736103600-1736189999@kennettsquarepreschool.com
SUMMARY:Registration (current students & alumni)
DESCRIPTION:
URL:https://kennettsquarepreschool.com/schedule/registration-current-students-alumni-2/
END:VEVENT
BEGIN:VEVENT
DTSTART;VALUE=DATE:20250105
DTEND;VALUE=DATE:20250107
DTSTAMP:20260424T104344
CREATED:20240323T165352Z
LAST-MODIFIED:20240323T224002Z
UID:5862-1736103600-1736189999@kennettsquarepreschool.com
SUMMARY:Tuition Due
DESCRIPTION:
URL:https://kennettsquarepreschool.com/schedule/tuition-due-33/
END:VEVENT
BEGIN:VEVENT
DTSTART;VALUE=DATE:20250105
DTEND;VALUE=DATE:20250107
DTSTAMP:20260424T104344
CREATED:20240323T165352Z
LAST-MODIFIED:20240323T225614Z
UID:5863-1736103600-1736189999@kennettsquarepreschool.com
SUMMARY:School Resumes
DESCRIPTION:
URL:https://kennettsquarepreschool.com/schedule/school-resumes-2/
END:VEVENT
BEGIN:VEVENT
DTSTART;VALUE=DATE:20241218
DTEND;VALUE=DATE:20250104
DTSTAMP:20260424T104344
CREATED:20240323T165352Z
LAST-MODIFIED:20240323T225726Z
UID:5861-1734548400-1735930799@kennettsquarepreschool.com
SUMMARY:Winter Break
DESCRIPTION:
URL:https://kennettsquarepreschool.com/schedule/winter-break-4/
END:VEVENT
BEGIN:VEVENT
DTSTART;TZID=America/New_York:20241218T050000
DTEND;TZID=America/New_York:20241218T070000
DTSTAMP:20260424T104344
CREATED:20240323T165352Z
LAST-MODIFIED:20240501T062458Z
UID:5859-1734498000-1734505200@kennettsquarepreschool.com
SUMMARY:Holiday Program*
DESCRIPTION:*Dates subject to change
URL:https://kennettsquarepreschool.com/schedule/holiday-program-7/
END:VEVENT
BEGIN:VEVENT
DTSTART;VALUE=DATE:20241211
DTEND;VALUE=DATE:20241214
DTSTAMP:20260424T104344
CREATED:20240323T165352Z
LAST-MODIFIED:20240323T225802Z
UID:5858-1733943600-1734116399@kennettsquarepreschool.com
SUMMARY:Polar Express*
DESCRIPTION:*Dates are subject to change
URL:https://kennettsquarepreschool.com/schedule/polar-express-5/
END:VEVENT
BEGIN:VEVENT
DTSTART;VALUE=DATE:20241130
DTEND;VALUE=DATE:20241202
DTSTAMP:20260424T104344
CREATED:20240323T165352Z
LAST-MODIFIED:20240323T224019Z
UID:5868-1732993200-1733079599@kennettsquarepreschool.com
SUMMARY:Tuition Due
DESCRIPTION:
URL:https://kennettsquarepreschool.com/schedule/tuition-due-34/
END:VEVENT
BEGIN:VEVENT
DTSTART;VALUE=DATE:20241126
DTEND;VALUE=DATE:20241130
DTSTAMP:20260424T104344
CREATED:20240323T165352Z
LAST-MODIFIED:20240323T225853Z
UID:5856-1732647600-1732906799@kennettsquarepreschool.com
SUMMARY:Thanksgiving - Closed
DESCRIPTION:
URL:https://kennettsquarepreschool.com/schedule/thanksgiving-closed-2/
END:VEVENT
BEGIN:VEVENT
DTSTART;VALUE=DATE:20241124
DTEND;VALUE=DATE:20241127
DTSTAMP:20260424T104344
CREATED:20240323T165352Z
LAST-MODIFIED:20240323T225903Z
UID:5855-1732474800-1732647599@kennettsquarepreschool.com
SUMMARY:Thanksgiving Feasts
DESCRIPTION:
URL:https://kennettsquarepreschool.com/schedule/thanksgiving-feasts-5/
END:VEVENT
BEGIN:VEVENT
DTSTART;VALUE=DATE:20241104
DTEND;VALUE=DATE:20241106
DTSTAMP:20260424T104344
CREATED:20240323T165352Z
LAST-MODIFIED:20240323T225926Z
UID:5854-1730746800-1730833199@kennettsquarepreschool.com
SUMMARY:Teacher Inservice Day - Closed
DESCRIPTION:
URL:https://kennettsquarepreschool.com/schedule/teacher-inservice-day-4/
END:VEVENT
BEGIN:VEVENT
DTSTART;VALUE=DATE:20241031
DTEND;VALUE=DATE:20241102
DTSTAMP:20260424T104344
CREATED:20240323T165352Z
LAST-MODIFIED:20240323T224031Z
UID:5875-1730404800-1730491199@kennettsquarepreschool.com
SUMMARY:Tuition Due
DESCRIPTION:
URL:https://kennettsquarepreschool.com/schedule/tuition-due-35/
END:VEVENT
BEGIN:VEVENT
DTSTART;VALUE=DATE:20241029
DTEND;VALUE=DATE:20241101
DTSTAMP:20260424T104344
CREATED:20240323T165352Z
LAST-MODIFIED:20240501T062644Z
UID:5852-1730232000-1730404799@kennettsquarepreschool.com
SUMMARY:Halloween Parades/Parties
DESCRIPTION:
URL:https://kennettsquarepreschool.com/schedule/halloween-parades-parties-4/
END:VEVENT
BEGIN:VEVENT
DTSTART;TZID=America/New_York:20241010T133000
DTEND;TZID=America/New_York:20241010T150000
DTSTAMP:20260424T104344
CREATED:20240323T165352Z
LAST-MODIFIED:20240323T230136Z
UID:5851-1728567000-1728572400@kennettsquarepreschool.com
SUMMARY:Halloween Family Event
DESCRIPTION:
URL:https://kennettsquarepreschool.com/schedule/halloween-family-event-2/
END:VEVENT
BEGIN:VEVENT
DTSTART;VALUE=DATE:20241002
DTEND;VALUE=DATE:20241004
DTSTAMP:20260424T104344
CREATED:20240323T165352Z
LAST-MODIFIED:20240323T230210Z
UID:5847-1727899200-1727985599@kennettsquarepreschool.com
SUMMARY:No School - Holiday
DESCRIPTION:
URL:https://kennettsquarepreschool.com/schedule/no-school-holiday/
END:VEVENT
BEGIN:VEVENT
DTSTART;VALUE=DATE:20240930
DTEND;VALUE=DATE:20241003
DTSTAMP:20260424T104344
CREATED:20240323T165352Z
LAST-MODIFIED:20240323T230148Z
UID:5850-1727726400-1727899199@kennettsquarepreschool.com
SUMMARY:School Pictures
DESCRIPTION:
URL:https://kennettsquarepreschool.com/schedule/school-pictures-4/
END:VEVENT
BEGIN:VEVENT
DTSTART;VALUE=DATE:20240930
DTEND;VALUE=DATE:20241002
DTSTAMP:20260424T104344
CREATED:20240323T165352Z
LAST-MODIFIED:20240323T224047Z
UID:5880-1727726400-1727812799@kennettsquarepreschool.com
SUMMARY:Tuition Due
DESCRIPTION:
URL:https://kennettsquarepreschool.com/schedule/tuition-due-36/
END:VEVENT
BEGIN:VEVENT
DTSTART;VALUE=DATE:20240924
DTEND;VALUE=DATE:20240927
DTSTAMP:20260424T104344
CREATED:20240323T165352Z
LAST-MODIFIED:20240323T230253Z
UID:5848-1727208000-1727380799@kennettsquarepreschool.com
SUMMARY:Orchard Trips*
DESCRIPTION:*Dates are subject to change
URL:https://kennettsquarepreschool.com/schedule/orchard-trips-3/
END:VEVENT
BEGIN:VEVENT
DTSTART;VALUE=DATE:20240904
DTEND;VALUE=DATE:20240907
DTSTAMP:20260424T104344
CREATED:20240323T165352Z
LAST-MODIFIED:20240323T230306Z
UID:5846-1725480000-1725652799@kennettsquarepreschool.com
SUMMARY:First Days of School
DESCRIPTION:
URL:https://kennettsquarepreschool.com/schedule/first-days-of-school-3/
END:VEVENT
BEGIN:VEVENT
DTSTART;VALUE=DATE:20240903
DTEND;VALUE=DATE:20240905
DTSTAMP:20260424T104344
CREATED:20240323T165352Z
LAST-MODIFIED:20240323T230316Z
UID:5845-1725393600-1725479999@kennettsquarepreschool.com
SUMMARY:Student Orientation
DESCRIPTION:
URL:https://kennettsquarepreschool.com/schedule/student-orientation-3/
END:VEVENT
BEGIN:VEVENT
DTSTART;TZID=America/New_York:20240828T143000
DTEND;TZID=America/New_York:20240828T153000
DTSTAMP:20260424T104344
CREATED:20240323T165352Z
LAST-MODIFIED:20240323T230434Z
UID:5844-1724855400-1724859000@kennettsquarepreschool.com
SUMMARY:Parent Orientation
DESCRIPTION:
URL:https://kennettsquarepreschool.com/schedule/parent-orientation-5/
END:VEVENT
BEGIN:VEVENT
DTSTART;VALUE=DATE:20240825
DTEND;VALUE=DATE:20240828
DTSTAMP:20260424T104344
CREATED:20240323T165352Z
LAST-MODIFIED:20240323T230402Z
UID:5843-1724616000-1724788799@kennettsquarepreschool.com
SUMMARY:Teacher Inservice Days
DESCRIPTION:
URL:https://kennettsquarepreschool.com/schedule/teacher-inservice-days-2/
END:VEVENT
BEGIN:VEVENT
DTSTART;TZID=America/New_York:20240825T050000
DTEND;TZID=America/New_York:20240825T080000
DTSTAMP:20260424T104344
CREATED:20240323T165352Z
LAST-MODIFIED:20240323T230459Z
UID:5842-1724562000-1724572800@kennettsquarepreschool.com
SUMMARY:Preschool Clean-Up Rain Date
DESCRIPTION:
URL:https://kennettsquarepreschool.com/schedule/preschool-clean-up-rain-date-4/
END:VEVENT
BEGIN:VEVENT
DTSTART;TZID=America/New_York:20240824T050000
DTEND;TZID=America/New_York:20240824T080000
DTSTAMP:20260424T104344
CREATED:20240323T165352Z
LAST-MODIFIED:20240323T230515Z
UID:5841-1724475600-1724486400@kennettsquarepreschool.com
SUMMARY:Preschool Clean-Up
DESCRIPTION:
URL:https://kennettsquarepreschool.com/schedule/preschool-clean-up-4/
END:VEVENT
BEGIN:VEVENT
DTSTART;VALUE=DATE:20240602
DTEND;VALUE=DATE:20240606
DTSTAMP:20260424T104344
CREATED:20230715T163944Z
LAST-MODIFIED:20240323T193526Z
UID:4727-1717358400-1717617600@kennettsquarepreschool.com
SUMMARY:Summer Camp #2
DESCRIPTION:
URL:https://kennettsquarepreschool.com/schedule/summer-camp-2-4/
CATEGORIES:Other
END:VEVENT
BEGIN:VEVENT
DTSTART;VALUE=DATE:20240527
DTEND;VALUE=DATE:20240531
DTSTAMP:20260424T104344
CREATED:20230715T163913Z
LAST-MODIFIED:20240323T193501Z
UID:4725-1716840000-1717099200@kennettsquarepreschool.com
SUMMARY:Summer Camp #1
DESCRIPTION:
URL:https://kennettsquarepreschool.com/schedule/summer-camp-1-4/
CATEGORIES:Other
END:VEVENT
BEGIN:VEVENT
DTSTART;TZID=America/New_York:20240521T200000
DTEND;TZID=America/New_York:20240521T200000
DTSTAMP:20260424T104344
CREATED:20230715T163843Z
LAST-MODIFIED:20230715T163843Z
UID:4723-1716321600-1716321600@kennettsquarepreschool.com
SUMMARY:New Student Orientation
DESCRIPTION:
URL:https://kennettsquarepreschool.com/schedule/new-student-orientation/
CATEGORIES:Other
END:VEVENT
BEGIN:VEVENT
DTSTART;VALUE=DATE:20240521
DTEND;VALUE=DATE:20240522
DTSTAMP:20260424T104344
CREATED:20230715T163806Z
LAST-MODIFIED:20230715T163806Z
UID:4721-1716321600-1716321600@kennettsquarepreschool.com
SUMMARY:Teacher In-Service Day
DESCRIPTION:
URL:https://kennettsquarepreschool.com/schedule/teacher-in-service-day-2/
CATEGORIES:Other
END:VEVENT
BEGIN:VEVENT
DTSTART;VALUE=DATE:20240519
DTEND;VALUE=DATE:20240521
DTSTAMP:20260424T104344
CREATED:20230715T163742Z
LAST-MODIFIED:20230715T163742Z
UID:4719-1716148800-1716235200@kennettsquarepreschool.com
SUMMARY:Last Day for Students/School Celebration
DESCRIPTION:
URL:https://kennettsquarepreschool.com/schedule/last-day-for-students-school-celebration/
CATEGORIES:Party
END:VEVENT
BEGIN:VEVENT
DTSTART;VALUE=DATE:20240512
DTEND;VALUE=DATE:20240514
DTSTAMP:20260424T104344
CREATED:20230715T163706Z
LAST-MODIFIED:20230715T163706Z
UID:4717-1715544000-1715630400@kennettsquarepreschool.com
SUMMARY:Trips to Anson B. Nixon Park
DESCRIPTION:
URL:https://kennettsquarepreschool.com/schedule/trips-to-anson-b-nixon-park-3/
CATEGORIES:Trip
END:VEVENT
END:VCALENDAR