BEGIN:VCALENDAR
VERSION:2.0
PRODID:-//Kennett Square Preschool - ECPv6.15.10//NONSGML v1.0//EN
CALSCALE:GREGORIAN
METHOD:PUBLISH
X-WR-CALNAME:Kennett Square Preschool
X-ORIGINAL-URL:https://kennettsquarepreschool.com
X-WR-CALDESC:Events for Kennett Square Preschool
REFRESH-INTERVAL;VALUE=DURATION:PT1H
X-Robots-Tag:noindex
X-PUBLISHED-TTL:PT1H
BEGIN:VTIMEZONE
TZID:America/New_York
BEGIN:DAYLIGHT
TZOFFSETFROM:-0500
TZOFFSETTO:-0400
TZNAME:EDT
DTSTART:20190310T070000
END:DAYLIGHT
BEGIN:STANDARD
TZOFFSETFROM:-0400
TZOFFSETTO:-0500
TZNAME:EST
DTSTART:20191103T060000
END:STANDARD
BEGIN:DAYLIGHT
TZOFFSETFROM:-0500
TZOFFSETTO:-0400
TZNAME:EDT
DTSTART:20200308T070000
END:DAYLIGHT
BEGIN:STANDARD
TZOFFSETFROM:-0400
TZOFFSETTO:-0500
TZNAME:EST
DTSTART:20201101T060000
END:STANDARD
BEGIN:DAYLIGHT
TZOFFSETFROM:-0500
TZOFFSETTO:-0400
TZNAME:EDT
DTSTART:20210314T070000
END:DAYLIGHT
BEGIN:STANDARD
TZOFFSETFROM:-0400
TZOFFSETTO:-0500
TZNAME:EST
DTSTART:20211107T060000
END:STANDARD
BEGIN:DAYLIGHT
TZOFFSETFROM:-0500
TZOFFSETTO:-0400
TZNAME:EDT
DTSTART:20220313T070000
END:DAYLIGHT
BEGIN:STANDARD
TZOFFSETFROM:-0400
TZOFFSETTO:-0500
TZNAME:EST
DTSTART:20221106T060000
END:STANDARD
END:VTIMEZONE
BEGIN:VEVENT
DTSTART;VALUE=DATE:20210516
DTEND;VALUE=DATE:20210519
DTSTAMP:20260425T101433
CREATED:20201116T065336Z
LAST-MODIFIED:20201116T065336Z
UID:4110-1621195200-1621367999@kennettsquarepreschool.com
SUMMARY:Field Days
DESCRIPTION:
URL:https://kennettsquarepreschool.com/schedule/field-days/
CATEGORIES:Other
END:VEVENT
BEGIN:VEVENT
DTSTART;VALUE=DATE:20210509
DTEND;VALUE=DATE:20210512
DTSTAMP:20260425T101433
CREATED:20201116T065305Z
LAST-MODIFIED:20201116T065305Z
UID:4108-1620590400-1620763199@kennettsquarepreschool.com
SUMMARY:Trips to Anson B. Nixon Park
DESCRIPTION:
URL:https://kennettsquarepreschool.com/schedule/trips-to-anson-b-nixon-park/
END:VEVENT
BEGIN:VEVENT
DTSTART;VALUE=DATE:20210505
DTEND;VALUE=DATE:20210508
DTSTAMP:20260425T101433
CREATED:20201116T065224Z
LAST-MODIFIED:20201116T065224Z
UID:4106-1620244800-1620417599@kennettsquarepreschool.com
SUMMARY:Mother's Day Presentations
DESCRIPTION:
URL:https://kennettsquarepreschool.com/schedule/mothers-day-presentations/
CATEGORIES:Other
END:VEVENT
BEGIN:VEVENT
DTSTART;VALUE=DATE:20210503
DTEND;VALUE=DATE:20210505
DTSTAMP:20260425T101433
CREATED:20201116T065145Z
LAST-MODIFIED:20201116T065145Z
UID:4104-1620072000-1620158399@kennettsquarepreschool.com
SUMMARY:Volunteer Luncheon
DESCRIPTION:Committee Chairs
URL:https://kennettsquarepreschool.com/schedule/volunteer-luncheon/
CATEGORIES:Other
END:VEVENT
BEGIN:VEVENT
DTSTART;VALUE=DATE:20210430
DTEND;VALUE=DATE:20210502
DTSTAMP:20260425T101433
CREATED:20201116T065101Z
LAST-MODIFIED:20201116T065101Z
UID:4102-1619812800-1619899199@kennettsquarepreschool.com
SUMMARY:Tuition Due
DESCRIPTION:
URL:https://kennettsquarepreschool.com/schedule/tuition-due-6/
CATEGORIES:Tuition
END:VEVENT
BEGIN:VEVENT
DTSTART;VALUE=DATE:20210425
DTEND;VALUE=DATE:20210501
DTSTAMP:20260425T101433
CREATED:20201116T065022Z
LAST-MODIFIED:20201116T065022Z
UID:4100-1619380800-1619812799@kennettsquarepreschool.com
SUMMARY:Teacher Appreciation Week
DESCRIPTION:
URL:https://kennettsquarepreschool.com/schedule/teacher-appreciation-week/
CATEGORIES:Other
END:VEVENT
BEGIN:VEVENT
DTSTART;VALUE=DATE:20210420
DTEND;VALUE=DATE:20210425
DTSTAMP:20260425T101433
CREATED:20201116T064953Z
LAST-MODIFIED:20201116T064953Z
UID:4098-1618948800-1619294399@kennettsquarepreschool.com
SUMMARY:Consignment Sale*
DESCRIPTION:This event is subject to change due to COVID-19
URL:https://kennettsquarepreschool.com/schedule/consignment-sale/
END:VEVENT
BEGIN:VEVENT
DTSTART;VALUE=DATE:20210415
DTEND;VALUE=DATE:20210417
DTSTAMP:20260425T101433
CREATED:20201116T064907Z
LAST-MODIFIED:20201116T064907Z
UID:4096-1618516800-1618603199@kennettsquarepreschool.com
SUMMARY:No School - In Service Day
DESCRIPTION:
URL:https://kennettsquarepreschool.com/schedule/no-school-in-service-day/
END:VEVENT
BEGIN:VEVENT
DTSTART;VALUE=DATE:20210404
DTEND;VALUE=DATE:20210406
DTSTAMP:20260425T101433
CREATED:20201116T064829Z
LAST-MODIFIED:20201116T064829Z
UID:4094-1617566400-1617652799@kennettsquarepreschool.com
SUMMARY:Tuition Due
DESCRIPTION:
URL:https://kennettsquarepreschool.com/schedule/tuition-due-5/
CATEGORIES:Tuition
END:VEVENT
BEGIN:VEVENT
DTSTART;VALUE=DATE:20210328
DTEND;VALUE=DATE:20210403
DTSTAMP:20260425T101433
CREATED:20201116T064743Z
LAST-MODIFIED:20201116T064743Z
UID:4092-1616961600-1617393599@kennettsquarepreschool.com
SUMMARY:Closed - Spring Break
DESCRIPTION:
URL:https://kennettsquarepreschool.com/schedule/closed-spring-break/
CATEGORIES:Closed
END:VEVENT
BEGIN:VEVENT
DTSTART;VALUE=DATE:20210324
DTEND;VALUE=DATE:20210327
DTSTAMP:20260425T101433
CREATED:20201116T064705Z
LAST-MODIFIED:20201116T064705Z
UID:4090-1616616000-1616788799@kennettsquarepreschool.com
SUMMARY:Spring Parties
DESCRIPTION:
URL:https://kennettsquarepreschool.com/schedule/spring-parties/
CATEGORIES:Party
END:VEVENT
BEGIN:VEVENT
DTSTART;VALUE=DATE:20210315
DTEND;VALUE=DATE:20210318
DTSTAMP:20260425T101433
CREATED:20201116T064632Z
LAST-MODIFIED:20201116T064632Z
UID:4088-1615838400-1616011199@kennettsquarepreschool.com
SUMMARY:St. Patrick's Day Parties
DESCRIPTION:
URL:https://kennettsquarepreschool.com/schedule/st-patricks-day-parties/
CATEGORIES:Party
END:VEVENT
BEGIN:VEVENT
DTSTART;VALUE=DATE:20210303
DTEND;VALUE=DATE:20210306
DTSTAMP:20260425T101433
CREATED:20201116T064603Z
LAST-MODIFIED:20201116T064603Z
UID:4086-1614798000-1614970799@kennettsquarepreschool.com
SUMMARY:Parent/Teacher Conferences
DESCRIPTION:
URL:https://kennettsquarepreschool.com/schedule/parent-teacher-conferences/
CATEGORIES:Other
END:VEVENT
BEGIN:VEVENT
DTSTART;VALUE=DATE:20210228
DTEND;VALUE=DATE:20210303
DTSTAMP:20260425T101433
CREATED:20201116T064513Z
LAST-MODIFIED:20201116T064513Z
UID:4084-1614538800-1614711599@kennettsquarepreschool.com
SUMMARY:Dr. Seuss Days
DESCRIPTION:
URL:https://kennettsquarepreschool.com/schedule/dr-seuss-days/
CATEGORIES:Other
END:VEVENT
BEGIN:VEVENT
DTSTART;VALUE=DATE:20210228
DTEND;VALUE=DATE:20210302
DTSTAMP:20260425T101433
CREATED:20201116T064336Z
LAST-MODIFIED:20201116T064336Z
UID:4082-1614538800-1614625199@kennettsquarepreschool.com
SUMMARY:Tuition Due
DESCRIPTION:
URL:https://kennettsquarepreschool.com/schedule/tuition-due-4/
CATEGORIES:Tuition
END:VEVENT
BEGIN:VEVENT
DTSTART;VALUE=DATE:20210214
DTEND;VALUE=DATE:20210217
DTSTAMP:20260425T101433
CREATED:20201116T064239Z
LAST-MODIFIED:20201116T064239Z
UID:4080-1613329200-1613501999@kennettsquarepreschool.com
SUMMARY:No School - President's Day
DESCRIPTION:
URL:https://kennettsquarepreschool.com/schedule/no-school-presidents-day/
CATEGORIES:Closed
END:VEVENT
BEGIN:VEVENT
DTSTART;VALUE=DATE:20210210
DTEND;VALUE=DATE:20210213
DTSTAMP:20260425T101433
CREATED:20201116T064006Z
LAST-MODIFIED:20201116T064006Z
UID:4076-1612983600-1613156399@kennettsquarepreschool.com
SUMMARY:Valentine's Day Parties
DESCRIPTION:
URL:https://kennettsquarepreschool.com/schedule/valentines-day-parties/
CATEGORIES:Party
END:VEVENT
BEGIN:VEVENT
DTSTART;VALUE=DATE:20210210
DTEND;VALUE=DATE:20210212
DTSTAMP:20260425T101433
CREATED:20201116T064053Z
LAST-MODIFIED:20201116T064053Z
UID:4078-1612983600-1613069999@kennettsquarepreschool.com
SUMMARY:Valentine's Day Dance*
DESCRIPTION:This event is subject to change due to COVID-19
URL:https://kennettsquarepreschool.com/schedule/valentines-day-dance/
CATEGORIES:Other
END:VEVENT
BEGIN:VEVENT
DTSTART;VALUE=DATE:20210131
DTEND;VALUE=DATE:20210202
DTSTAMP:20260425T101433
CREATED:20201116T063829Z
LAST-MODIFIED:20201116T063829Z
UID:4074-1612119600-1612205999@kennettsquarepreschool.com
SUMMARY:New Family Registration Begins
DESCRIPTION:
URL:https://kennettsquarepreschool.com/schedule/new-family-registration-begins/
END:VEVENT
BEGIN:VEVENT
DTSTART;VALUE=DATE:20210131
DTEND;VALUE=DATE:20210202
DTSTAMP:20260425T101433
CREATED:20201116T063803Z
LAST-MODIFIED:20201116T063803Z
UID:4072-1612119600-1612205999@kennettsquarepreschool.com
SUMMARY:Tuition Due
DESCRIPTION:
URL:https://kennettsquarepreschool.com/schedule/tuition-due-3/
CATEGORIES:Tuition
END:VEVENT
BEGIN:VEVENT
DTSTART;VALUE=DATE:20210127
DTEND;VALUE=DATE:20210130
DTSTAMP:20260425T101433
CREATED:20201116T063731Z
LAST-MODIFIED:20201116T063731Z
UID:4070-1611774000-1611946799@kennettsquarepreschool.com
SUMMARY:Teddy Bear Picnic Days
DESCRIPTION:
URL:https://kennettsquarepreschool.com/schedule/teddy-bear-picnic-days/
END:VEVENT
BEGIN:VEVENT
DTSTART;TZID=America/New_York:20210125T043000
DTEND;TZID=America/New_York:20210125T063000
DTSTAMP:20260425T101433
CREATED:20201116T063338Z
LAST-MODIFIED:20201116T063338Z
UID:4068-1611549000-1611556200@kennettsquarepreschool.com
SUMMARY:Open House #2
DESCRIPTION:
URL:https://kennettsquarepreschool.com/schedule/open-house-2/
END:VEVENT
BEGIN:VEVENT
DTSTART;VALUE=DATE:20210117
DTEND;VALUE=DATE:20210119
DTSTAMP:20260425T101433
CREATED:20201116T063123Z
LAST-MODIFIED:20201116T063123Z
UID:4064-1610910000-1610996399@kennettsquarepreschool.com
SUMMARY:MLK Day - No School
DESCRIPTION:
URL:https://kennettsquarepreschool.com/schedule/mlk-day-no-school/
CATEGORIES:Closed
END:VEVENT
BEGIN:VEVENT
DTSTART;TZID=America/New_York:20210111T043000
DTEND;TZID=America/New_York:20210111T063000
DTSTAMP:20260425T101433
CREATED:20201116T063255Z
LAST-MODIFIED:20201116T063255Z
UID:4066-1610339400-1610346600@kennettsquarepreschool.com
SUMMARY:Open House #1
DESCRIPTION:
URL:https://kennettsquarepreschool.com/schedule/open-house-1/
CATEGORIES:Other
END:VEVENT
BEGIN:VEVENT
DTSTART;VALUE=DATE:20210103
DTEND;VALUE=DATE:20210105
DTSTAMP:20260425T101433
CREATED:20201116T063033Z
LAST-MODIFIED:20201116T063033Z
UID:4062-1609700400-1609786799@kennettsquarepreschool.com
SUMMARY:School Resumes/Registration
DESCRIPTION:For current students and alumni
URL:https://kennettsquarepreschool.com/schedule/school-resumes-registration/
CATEGORIES:Other
END:VEVENT
BEGIN:VEVENT
DTSTART;VALUE=DATE:20210103
DTEND;VALUE=DATE:20210105
DTSTAMP:20260425T101433
CREATED:20201116T062946Z
LAST-MODIFIED:20201116T062946Z
UID:4060-1609700400-1609786799@kennettsquarepreschool.com
SUMMARY:Tuition Due
DESCRIPTION:
URL:https://kennettsquarepreschool.com/schedule/tuition-due-2/
CATEGORIES:Tuition
END:VEVENT
BEGIN:VEVENT
DTSTART;VALUE=DATE:20201216
DTEND;VALUE=DATE:20210102
DTSTAMP:20260425T101433
CREATED:20201116T062857Z
LAST-MODIFIED:20201116T062857Z
UID:4058-1608145200-1609527599@kennettsquarepreschool.com
SUMMARY:Winter Break
DESCRIPTION:
URL:https://kennettsquarepreschool.com/schedule/winter-break/
CATEGORIES:Closed
END:VEVENT
BEGIN:VEVENT
DTSTART;VALUE=DATE:20201214
DTEND;VALUE=DATE:20201217
DTSTAMP:20260425T101433
CREATED:20201116T062708Z
LAST-MODIFIED:20201116T182526Z
UID:4054-1607972400-1608145199@kennettsquarepreschool.com
SUMMARY:Holiday Parties
DESCRIPTION:
URL:https://kennettsquarepreschool.com/schedule/holiday-parties/
CATEGORIES:Party
END:VEVENT
BEGIN:VEVENT
DTSTART;VALUE=DATE:20201214
DTEND;VALUE=DATE:20201217
DTSTAMP:20260425T101433
CREATED:20201116T062612Z
LAST-MODIFIED:20201116T182323Z
UID:4052-1607972400-1608145199@kennettsquarepreschool.com
SUMMARY:Polar Express*
DESCRIPTION:*This event is subject to change due to COVID-19
URL:https://kennettsquarepreschool.com/schedule/polar-express/
END:VEVENT
BEGIN:VEVENT
DTSTART;VALUE=DATE:20201208
DTEND;VALUE=DATE:20201211
DTSTAMP:20260425T101433
CREATED:20201116T062812Z
LAST-MODIFIED:20201116T182413Z
UID:4056-1607454000-1607626799@kennettsquarepreschool.com
SUMMARY:Holiday Program*
DESCRIPTION:*This event is subject to change due to COVID-19
URL:https://kennettsquarepreschool.com/schedule/holiday-program/
END:VEVENT
END:VCALENDAR