BEGIN:VCALENDAR
VERSION:2.0
PRODID:-//Kennett Square Preschool - ECPv6.15.10//NONSGML v1.0//EN
CALSCALE:GREGORIAN
METHOD:PUBLISH
X-WR-CALNAME:Kennett Square Preschool
X-ORIGINAL-URL:https://kennettsquarepreschool.com
X-WR-CALDESC:Events for Kennett Square Preschool
REFRESH-INTERVAL;VALUE=DURATION:PT1H
X-Robots-Tag:noindex
X-PUBLISHED-TTL:PT1H
BEGIN:VTIMEZONE
TZID:America/New_York
BEGIN:DAYLIGHT
TZOFFSETFROM:-0500
TZOFFSETTO:-0400
TZNAME:EDT
DTSTART:20210314T070000
END:DAYLIGHT
BEGIN:STANDARD
TZOFFSETFROM:-0400
TZOFFSETTO:-0500
TZNAME:EST
DTSTART:20211107T060000
END:STANDARD
BEGIN:DAYLIGHT
TZOFFSETFROM:-0500
TZOFFSETTO:-0400
TZNAME:EDT
DTSTART:20220313T070000
END:DAYLIGHT
BEGIN:STANDARD
TZOFFSETFROM:-0400
TZOFFSETTO:-0500
TZNAME:EST
DTSTART:20221106T060000
END:STANDARD
BEGIN:DAYLIGHT
TZOFFSETFROM:-0500
TZOFFSETTO:-0400
TZNAME:EDT
DTSTART:20230312T070000
END:DAYLIGHT
BEGIN:STANDARD
TZOFFSETFROM:-0400
TZOFFSETTO:-0500
TZNAME:EST
DTSTART:20231105T060000
END:STANDARD
BEGIN:DAYLIGHT
TZOFFSETFROM:-0500
TZOFFSETTO:-0400
TZNAME:EDT
DTSTART:20240310T070000
END:DAYLIGHT
BEGIN:STANDARD
TZOFFSETFROM:-0400
TZOFFSETTO:-0500
TZNAME:EST
DTSTART:20241103T060000
END:STANDARD
END:VTIMEZONE
BEGIN:VEVENT
DTSTART;VALUE=DATE:20230122
DTEND;VALUE=DATE:20230125
DTSTAMP:20260425T072456
CREATED:20220516T042923Z
LAST-MODIFIED:20220516T042923Z
UID:4493-1674414000-1674586799@kennettsquarepreschool.com
SUMMARY:Current/Alumni Applications Due
DESCRIPTION:
URL:https://kennettsquarepreschool.com/schedule/current-alumni-applications-due/
CATEGORIES:Other
END:VEVENT
BEGIN:VEVENT
DTSTART;TZID=America/New_York:20230119T083000
DTEND;TZID=America/New_York:20230119T100000
DTSTAMP:20260425T072456
CREATED:20221121T063027Z
LAST-MODIFIED:20221121T063027Z
UID:4592-1674117000-1674122400@kennettsquarepreschool.com
SUMMARY:Open House
DESCRIPTION:
URL:https://kennettsquarepreschool.com/schedule/open-house-4/
CATEGORIES:Other
END:VEVENT
BEGIN:VEVENT
DTSTART;VALUE=DATE:20230115
DTEND;VALUE=DATE:20230117
DTSTAMP:20260425T072456
CREATED:20220516T042823Z
LAST-MODIFIED:20220516T042823Z
UID:4489-1673809200-1673895599@kennettsquarepreschool.com
SUMMARY:MLK Day - No School
DESCRIPTION:
URL:https://kennettsquarepreschool.com/schedule/mlk-day-no-school-2/
CATEGORIES:Closed
END:VEVENT
BEGIN:VEVENT
DTSTART;VALUE=DATE:20230102
DTEND;VALUE=DATE:20230104
DTSTAMP:20260425T072456
CREATED:20220516T042711Z
LAST-MODIFIED:20221122T055019Z
UID:4485-1672686000-1672772399@kennettsquarepreschool.com
SUMMARY:School Resumes/Registration
DESCRIPTION:Registration for current students and alumni
URL:https://kennettsquarepreschool.com/schedule/school-resumes-registration-3/
CATEGORIES:Other
END:VEVENT
BEGIN:VEVENT
DTSTART;VALUE=DATE:20230101
DTEND;VALUE=DATE:20230103
DTSTAMP:20260425T072456
CREATED:20220516T042625Z
LAST-MODIFIED:20220516T042625Z
UID:4483-1672599600-1672685999@kennettsquarepreschool.com
SUMMARY:Tuition Due
DESCRIPTION:
URL:https://kennettsquarepreschool.com/schedule/tuition-due-18/
CATEGORIES:Tuition
END:VEVENT
BEGIN:VEVENT
DTSTART;VALUE=DATE:20221218
DTEND;VALUE=DATE:20230103
DTSTAMP:20260425T072456
CREATED:20220516T042605Z
LAST-MODIFIED:20220516T042605Z
UID:4481-1671390000-1672685999@kennettsquarepreschool.com
SUMMARY:Winter Break
DESCRIPTION:
URL:https://kennettsquarepreschool.com/schedule/winter-break-2/
CATEGORIES:Closed
END:VEVENT
BEGIN:VEVENT
DTSTART;TZID=America/New_York:20221216T040000
DTEND;TZID=America/New_York:20221216T070000
DTSTAMP:20260425T072456
CREATED:20220516T042531Z
LAST-MODIFIED:20220516T042531Z
UID:4479-1671163200-1671174000@kennettsquarepreschool.com
SUMMARY:Holiday Program*
DESCRIPTION:2 shows\n9 AM & 11 AM \n*Dates are subject to change due to COVID 19
URL:https://kennettsquarepreschool.com/schedule/holiday-program-4/
CATEGORIES:Other
END:VEVENT
BEGIN:VEVENT
DTSTART;VALUE=DATE:20221213
DTEND;VALUE=DATE:20221216
DTSTAMP:20260425T072456
CREATED:20220516T042221Z
LAST-MODIFIED:20220516T042221Z
UID:4475-1670958000-1671130799@kennettsquarepreschool.com
SUMMARY:Holiday Parties
DESCRIPTION:
URL:https://kennettsquarepreschool.com/schedule/holiday-parties-2/
CATEGORIES:Party
END:VEVENT
BEGIN:VEVENT
DTSTART;VALUE=DATE:20221211
DTEND;VALUE=DATE:20221214
DTSTAMP:20260425T072456
CREATED:20220516T042327Z
LAST-MODIFIED:20220516T042327Z
UID:4477-1670785200-1670957999@kennettsquarepreschool.com
SUMMARY:Polar Express*
DESCRIPTION:*Dates subject to change due to COVID 19
URL:https://kennettsquarepreschool.com/schedule/polar-express-3/
CATEGORIES:Party
END:VEVENT
BEGIN:VEVENT
DTSTART;VALUE=DATE:20221130
DTEND;VALUE=DATE:20221202
DTSTAMP:20260425T072456
CREATED:20220516T042156Z
LAST-MODIFIED:20220516T042156Z
UID:4473-1669834800-1669921199@kennettsquarepreschool.com
SUMMARY:Tuition Due
DESCRIPTION:
URL:https://kennettsquarepreschool.com/schedule/tuition-due-17/
CATEGORIES:Tuition
END:VEVENT
BEGIN:VEVENT
DTSTART;VALUE=DATE:20221122
DTEND;VALUE=DATE:20221126
DTSTAMP:20260425T072456
CREATED:20220516T042059Z
LAST-MODIFIED:20220516T042059Z
UID:4471-1669143600-1669402799@kennettsquarepreschool.com
SUMMARY:Closed - Thanksgiving
DESCRIPTION:
URL:https://kennettsquarepreschool.com/schedule/closed-thanksgiving-3/
CATEGORIES:Closed
END:VEVENT
BEGIN:VEVENT
DTSTART;VALUE=DATE:20221120
DTEND;VALUE=DATE:20221123
DTSTAMP:20260425T072456
CREATED:20220516T042034Z
LAST-MODIFIED:20220516T042034Z
UID:4469-1668970800-1669143599@kennettsquarepreschool.com
SUMMARY:Thanksgiving Feasts
DESCRIPTION:
URL:https://kennettsquarepreschool.com/schedule/thanksgiving-feasts-3/
CATEGORIES:Party
END:VEVENT
BEGIN:VEVENT
DTSTART;VALUE=DATE:20221031
DTEND;VALUE=DATE:20221102
DTSTAMP:20260425T072456
CREATED:20220516T042000Z
LAST-MODIFIED:20220516T042000Z
UID:4467-1667246400-1667332799@kennettsquarepreschool.com
SUMMARY:No School - In-Service Day
DESCRIPTION:
URL:https://kennettsquarepreschool.com/schedule/no-school-in-service-day-3/
CATEGORIES:Closed
END:VEVENT
BEGIN:VEVENT
DTSTART;VALUE=DATE:20221031
DTEND;VALUE=DATE:20221102
DTSTAMP:20260425T072456
CREATED:20220516T041924Z
LAST-MODIFIED:20220516T041924Z
UID:4465-1667246400-1667332799@kennettsquarepreschool.com
SUMMARY:Tuition Due
DESCRIPTION:
URL:https://kennettsquarepreschool.com/schedule/tuition-due-16/
CATEGORIES:Tuition
END:VEVENT
BEGIN:VEVENT
DTSTART;VALUE=DATE:20221026
DTEND;VALUE=DATE:20221029
DTSTAMP:20260425T072456
CREATED:20220503T055202Z
LAST-MODIFIED:20220503T055202Z
UID:4460-1666814400-1666987199@kennettsquarepreschool.com
SUMMARY:Halloween Parades/Parties
DESCRIPTION:
URL:https://kennettsquarepreschool.com/schedule/halloween-parades-parties-2/
CATEGORIES:Party
END:VEVENT
BEGIN:VEVENT
DTSTART;TZID=America/New_York:20221006T133000
DTEND;TZID=America/New_York:20221006T150000
DTSTAMP:20260425T072456
CREATED:20220503T055135Z
LAST-MODIFIED:20220503T055135Z
UID:4458-1665063000-1665068400@kennettsquarepreschool.com
SUMMARY:Halloween Dance
DESCRIPTION:
URL:https://kennettsquarepreschool.com/schedule/halloween-dance-2/
CATEGORIES:Party
END:VEVENT
BEGIN:VEVENT
DTSTART;VALUE=DATE:20221002
DTEND;VALUE=DATE:20221005
DTSTAMP:20260425T072456
CREATED:20220503T054738Z
LAST-MODIFIED:20220503T054738Z
UID:4456-1664740800-1664913599@kennettsquarepreschool.com
SUMMARY:School Pictures
DESCRIPTION:
URL:https://kennettsquarepreschool.com/schedule/school-pictures-2/
CATEGORIES:Other
END:VEVENT
BEGIN:VEVENT
DTSTART;VALUE=DATE:20220930
DTEND;VALUE=DATE:20221002
DTSTAMP:20260425T072456
CREATED:20220503T054711Z
LAST-MODIFIED:20220503T054711Z
UID:4454-1664568000-1664654399@kennettsquarepreschool.com
SUMMARY:Tuition Due
DESCRIPTION:
URL:https://kennettsquarepreschool.com/schedule/tuition-due-15/
CATEGORIES:Tuition
END:VEVENT
BEGIN:VEVENT
DTSTART;VALUE=DATE:20220927
DTEND;VALUE=DATE:20220930
DTSTAMP:20260425T072456
CREATED:20220503T054633Z
LAST-MODIFIED:20220503T054633Z
UID:4452-1664308800-1664481599@kennettsquarepreschool.com
SUMMARY:Orchard Trips*
DESCRIPTION:*Please note that all dates are subject to change due to COVID 19
URL:https://kennettsquarepreschool.com/schedule/orchard-trips/
CATEGORIES:Trip
END:VEVENT
BEGIN:VEVENT
DTSTART;VALUE=DATE:20220907
DTEND;VALUE=DATE:20220910
DTSTAMP:20260425T072456
CREATED:20220503T054541Z
LAST-MODIFIED:20220503T054541Z
UID:4450-1662580800-1662753599@kennettsquarepreschool.com
SUMMARY:First Days of School
DESCRIPTION:
URL:https://kennettsquarepreschool.com/schedule/first-days-of-school/
CATEGORIES:Other
END:VEVENT
BEGIN:VEVENT
DTSTART;VALUE=DATE:20220906
DTEND;VALUE=DATE:20220908
DTSTAMP:20260425T072456
CREATED:20220503T054516Z
LAST-MODIFIED:20220503T054516Z
UID:4448-1662494400-1662580799@kennettsquarepreschool.com
SUMMARY:Student Orientation
DESCRIPTION:
URL:https://kennettsquarepreschool.com/schedule/student-orientation/
CATEGORIES:Other
END:VEVENT
BEGIN:VEVENT
DTSTART;TZID=America/New_York:20220831T143000
DTEND;TZID=America/New_York:20220831T163000
DTSTAMP:20260425T072456
CREATED:20220503T054441Z
LAST-MODIFIED:20220503T054441Z
UID:4446-1661956200-1661963400@kennettsquarepreschool.com
SUMMARY:Parent Orientation
DESCRIPTION:
URL:https://kennettsquarepreschool.com/schedule/parent-orientation-3/
CATEGORIES:Other
END:VEVENT
BEGIN:VEVENT
DTSTART;VALUE=DATE:20220828
DTEND;VALUE=DATE:20220830
DTSTAMP:20260425T072456
CREATED:20220503T054410Z
LAST-MODIFIED:20220503T054410Z
UID:4444-1661716800-1661803199@kennettsquarepreschool.com
SUMMARY:Teacher Inservice Day
DESCRIPTION:
URL:https://kennettsquarepreschool.com/schedule/teacher-inservice-day-2/
CATEGORIES:Other
END:VEVENT
BEGIN:VEVENT
DTSTART;TZID=America/New_York:20220828T080000
DTEND;TZID=America/New_York:20220828T100000
DTSTAMP:20260425T072456
CREATED:20220503T054326Z
LAST-MODIFIED:20220503T054326Z
UID:4442-1661673600-1661680800@kennettsquarepreschool.com
SUMMARY:Preschool Clean-up Rain Date
DESCRIPTION:
URL:https://kennettsquarepreschool.com/schedule/preschool-clean-up-rain-date-2/
CATEGORIES:Other
END:VEVENT
BEGIN:VEVENT
DTSTART;TZID=America/New_York:20220827T050000
DTEND;TZID=America/New_York:20220827T080000
DTSTAMP:20260425T072456
CREATED:20220503T054255Z
LAST-MODIFIED:20220503T054255Z
UID:4440-1661576400-1661587200@kennettsquarepreschool.com
SUMMARY:Preschool Clean-up
DESCRIPTION:
URL:https://kennettsquarepreschool.com/schedule/preschool-clean-up-2/
CATEGORIES:Other
END:VEVENT
BEGIN:VEVENT
DTSTART;VALUE=DATE:20220605
DTEND;VALUE=DATE:20220610
DTSTAMP:20260425T072456
CREATED:20210714T061918Z
LAST-MODIFIED:20210714T061918Z
UID:4361-1654459200-1654804799@kennettsquarepreschool.com
SUMMARY:Summer Camp #2
DESCRIPTION:
URL:https://kennettsquarepreschool.com/schedule/summer-camp-2-2/
CATEGORIES:Other
END:VEVENT
BEGIN:VEVENT
DTSTART;VALUE=DATE:20220530
DTEND;VALUE=DATE:20220604
DTSTAMP:20260425T072456
CREATED:20210714T061849Z
LAST-MODIFIED:20210714T061849Z
UID:4359-1653940800-1654286399@kennettsquarepreschool.com
SUMMARY:Summer Camp # 1
DESCRIPTION:
URL:https://kennettsquarepreschool.com/schedule/summer-camp-1-2/
CATEGORIES:Other
END:VEVENT
BEGIN:VEVENT
DTSTART;VALUE=DATE:20220524
DTEND;VALUE=DATE:20220526
DTSTAMP:20260425T072456
CREATED:20210714T061746Z
LAST-MODIFIED:20210714T061746Z
UID:4357-1653422400-1653508799@kennettsquarepreschool.com
SUMMARY:Teacher In-Service Day - Closed
DESCRIPTION:
URL:https://kennettsquarepreschool.com/schedule/teacher-in-service-day-closed/
CATEGORIES:Closed
END:VEVENT
BEGIN:VEVENT
DTSTART;VALUE=DATE:20220522
DTEND;VALUE=DATE:20220525
DTSTAMP:20260425T072456
CREATED:20210714T061719Z
LAST-MODIFIED:20210714T061719Z
UID:4355-1653249600-1653422399@kennettsquarepreschool.com
SUMMARY:Last Day for Students
DESCRIPTION:Slide Show!
URL:https://kennettsquarepreschool.com/schedule/last-day-for-students/
CATEGORIES:Party
END:VEVENT
BEGIN:VEVENT
DTSTART;VALUE=DATE:20220518
DTEND;VALUE=DATE:20220521
DTSTAMP:20260425T072456
CREATED:20210714T061638Z
LAST-MODIFIED:20210714T061638Z
UID:4353-1652904000-1653076799@kennettsquarepreschool.com
SUMMARY:Field Days
DESCRIPTION:
URL:https://kennettsquarepreschool.com/schedule/field-days-2/
CATEGORIES:Trip
END:VEVENT
END:VCALENDAR