BEGIN:VCALENDAR
VERSION:2.0
PRODID:-//Kennett Square Preschool - ECPv6.15.10//NONSGML v1.0//EN
CALSCALE:GREGORIAN
METHOD:PUBLISH
X-ORIGINAL-URL:https://kennettsquarepreschool.com
X-WR-CALDESC:Events for Kennett Square Preschool
REFRESH-INTERVAL;VALUE=DURATION:PT1H
X-Robots-Tag:noindex
X-PUBLISHED-TTL:PT1H
BEGIN:VTIMEZONE
TZID:America/New_York
BEGIN:DAYLIGHT
TZOFFSETFROM:-0500
TZOFFSETTO:-0400
TZNAME:EDT
DTSTART:20200308T070000
END:DAYLIGHT
BEGIN:STANDARD
TZOFFSETFROM:-0400
TZOFFSETTO:-0500
TZNAME:EST
DTSTART:20201101T060000
END:STANDARD
BEGIN:DAYLIGHT
TZOFFSETFROM:-0500
TZOFFSETTO:-0400
TZNAME:EDT
DTSTART:20210314T070000
END:DAYLIGHT
BEGIN:STANDARD
TZOFFSETFROM:-0400
TZOFFSETTO:-0500
TZNAME:EST
DTSTART:20211107T060000
END:STANDARD
BEGIN:DAYLIGHT
TZOFFSETFROM:-0500
TZOFFSETTO:-0400
TZNAME:EDT
DTSTART:20220313T070000
END:DAYLIGHT
BEGIN:STANDARD
TZOFFSETFROM:-0400
TZOFFSETTO:-0500
TZNAME:EST
DTSTART:20221106T060000
END:STANDARD
BEGIN:DAYLIGHT
TZOFFSETFROM:-0500
TZOFFSETTO:-0400
TZNAME:EDT
DTSTART:20230312T070000
END:DAYLIGHT
BEGIN:STANDARD
TZOFFSETFROM:-0400
TZOFFSETTO:-0500
TZNAME:EST
DTSTART:20231105T060000
END:STANDARD
BEGIN:DAYLIGHT
TZOFFSETFROM:-0500
TZOFFSETTO:-0400
TZNAME:EDT
DTSTART:20240310T070000
END:DAYLIGHT
BEGIN:STANDARD
TZOFFSETFROM:-0400
TZOFFSETTO:-0500
TZNAME:EST
DTSTART:20241103T060000
END:STANDARD
BEGIN:DAYLIGHT
TZOFFSETFROM:-0500
TZOFFSETTO:-0400
TZNAME:EDT
DTSTART:20250309T070000
END:DAYLIGHT
BEGIN:STANDARD
TZOFFSETFROM:-0400
TZOFFSETTO:-0500
TZNAME:EST
DTSTART:20251102T060000
END:STANDARD
END:VTIMEZONE
BEGIN:VEVENT
DTSTART;VALUE=DATE:20240512
DTEND;VALUE=DATE:20240514
DTSTAMP:20260424T134316
CREATED:20230715T163706Z
LAST-MODIFIED:20230715T163706Z
UID:4717-1715544000-1715630400@kennettsquarepreschool.com
SUMMARY:Trips to Anson B. Nixon Park
DESCRIPTION:
URL:https://kennettsquarepreschool.com/schedule/trips-to-anson-b-nixon-park-3/
CATEGORIES:Trip
END:VEVENT
BEGIN:VEVENT
DTSTART;VALUE=DATE:20240501
DTEND;VALUE=DATE:20240503
DTSTAMP:20260424T134316
CREATED:20230715T163605Z
LAST-MODIFIED:20230715T163605Z
UID:4713-1714593600-1714680000@kennettsquarepreschool.com
SUMMARY:Field Days
DESCRIPTION:
URL:https://kennettsquarepreschool.com/schedule/field-days-4/
CATEGORIES:Trip
END:VEVENT
BEGIN:VEVENT
DTSTART;VALUE=DATE:20230925
DTEND;VALUE=DATE:20230927
DTSTAMP:20260424T134316
CREATED:20230715T161249Z
LAST-MODIFIED:20230715T161249Z
UID:4637-1695672000-1695758400@kennettsquarepreschool.com
SUMMARY:Orchard Trips*
DESCRIPTION:*Dates are subject to change
URL:https://kennettsquarepreschool.com/schedule/orchard-trips-2/
CATEGORIES:Trip
END:VEVENT
BEGIN:VEVENT
DTSTART;VALUE=DATE:20230514
DTEND;VALUE=DATE:20230517
DTSTAMP:20260424T134316
CREATED:20220516T044307Z
LAST-MODIFIED:20220516T044307Z
UID:4531-1684094400-1684267199@kennettsquarepreschool.com
SUMMARY:Trips to Anson B. Nixon Park
DESCRIPTION:
URL:https://kennettsquarepreschool.com/schedule/trips-to-anson-b-nixon-park-2/
CATEGORIES:Trip
END:VEVENT
BEGIN:VEVENT
DTSTART;VALUE=DATE:20230507
DTEND;VALUE=DATE:20230510
DTSTAMP:20260424T134316
CREATED:20220516T044220Z
LAST-MODIFIED:20220516T044220Z
UID:4527-1683489600-1683662399@kennettsquarepreschool.com
SUMMARY:Field Days
DESCRIPTION:
URL:https://kennettsquarepreschool.com/schedule/field-days-3/
CATEGORIES:Trip
END:VEVENT
BEGIN:VEVENT
DTSTART;VALUE=DATE:20220927
DTEND;VALUE=DATE:20220930
DTSTAMP:20260424T134316
CREATED:20220503T054633Z
LAST-MODIFIED:20220503T054633Z
UID:4452-1664308800-1664481599@kennettsquarepreschool.com
SUMMARY:Orchard Trips*
DESCRIPTION:*Please note that all dates are subject to change due to COVID 19
URL:https://kennettsquarepreschool.com/schedule/orchard-trips/
CATEGORIES:Trip
END:VEVENT
BEGIN:VEVENT
DTSTART;VALUE=DATE:20220518
DTEND;VALUE=DATE:20220521
DTSTAMP:20260424T134316
CREATED:20210714T061638Z
LAST-MODIFIED:20210714T061638Z
UID:4353-1652904000-1653076799@kennettsquarepreschool.com
SUMMARY:Field Days
DESCRIPTION:
URL:https://kennettsquarepreschool.com/schedule/field-days-2/
CATEGORIES:Trip
END:VEVENT
BEGIN:VEVENT
DTSTART;VALUE=DATE:20220511
DTEND;VALUE=DATE:20220514
DTSTAMP:20260424T134316
CREATED:20210714T061605Z
LAST-MODIFIED:20210714T061605Z
UID:4351-1652299200-1652471999@kennettsquarepreschool.com
SUMMARY:Anson B. Nixon Park Trips
DESCRIPTION:
URL:https://kennettsquarepreschool.com/schedule/anson-b-nixon-park-trips/
CATEGORIES:Trip
END:VEVENT
BEGIN:VEVENT
DTSTART;VALUE=DATE:20210929
DTEND;VALUE=DATE:20211001
DTSTAMP:20260424T134316
CREATED:20210714T054525Z
LAST-MODIFIED:20210714T054525Z
UID:4274-1632945600-1633031999@kennettsquarepreschool.com
SUMMARY:Orchard Trip
DESCRIPTION:
URL:https://kennettsquarepreschool.com/schedule/orchard-trip-2/
CATEGORIES:Trip
END:VEVENT
BEGIN:VEVENT
DTSTART;VALUE=DATE:20210928
DTEND;VALUE=DATE:20210930
DTSTAMP:20260424T134316
CREATED:20210714T054502Z
LAST-MODIFIED:20210714T054502Z
UID:4272-1632859200-1632945599@kennettsquarepreschool.com
SUMMARY:Orchard Trip
DESCRIPTION:
URL:https://kennettsquarepreschool.com/schedule/orchard-trip/
CATEGORIES:Trip
END:VEVENT
END:VCALENDAR