BEGIN:VCALENDAR
VERSION:2.0
PRODID:-//Kennett Square Preschool - ECPv6.15.10//NONSGML v1.0//EN
CALSCALE:GREGORIAN
METHOD:PUBLISH
X-WR-CALNAME:Kennett Square Preschool
X-ORIGINAL-URL:https://kennettsquarepreschool.com
X-WR-CALDESC:Events for Kennett Square Preschool
REFRESH-INTERVAL;VALUE=DURATION:PT1H
X-Robots-Tag:noindex
X-PUBLISHED-TTL:PT1H
BEGIN:VTIMEZONE
TZID:America/New_York
BEGIN:DAYLIGHT
TZOFFSETFROM:-0500
TZOFFSETTO:-0400
TZNAME:EDT
DTSTART:20190310T070000
END:DAYLIGHT
BEGIN:STANDARD
TZOFFSETFROM:-0400
TZOFFSETTO:-0500
TZNAME:EST
DTSTART:20191103T060000
END:STANDARD
BEGIN:DAYLIGHT
TZOFFSETFROM:-0500
TZOFFSETTO:-0400
TZNAME:EDT
DTSTART:20200308T070000
END:DAYLIGHT
BEGIN:STANDARD
TZOFFSETFROM:-0400
TZOFFSETTO:-0500
TZNAME:EST
DTSTART:20201101T060000
END:STANDARD
BEGIN:DAYLIGHT
TZOFFSETFROM:-0500
TZOFFSETTO:-0400
TZNAME:EDT
DTSTART:20210314T070000
END:DAYLIGHT
BEGIN:STANDARD
TZOFFSETFROM:-0400
TZOFFSETTO:-0500
TZNAME:EST
DTSTART:20211107T060000
END:STANDARD
BEGIN:DAYLIGHT
TZOFFSETFROM:-0500
TZOFFSETTO:-0400
TZNAME:EDT
DTSTART:20220313T070000
END:DAYLIGHT
BEGIN:STANDARD
TZOFFSETFROM:-0400
TZOFFSETTO:-0500
TZNAME:EST
DTSTART:20221106T060000
END:STANDARD
BEGIN:DAYLIGHT
TZOFFSETFROM:-0500
TZOFFSETTO:-0400
TZNAME:EDT
DTSTART:20230312T070000
END:DAYLIGHT
BEGIN:STANDARD
TZOFFSETFROM:-0400
TZOFFSETTO:-0500
TZNAME:EST
DTSTART:20231105T060000
END:STANDARD
END:VTIMEZONE
BEGIN:VEVENT
DTSTART;VALUE=DATE:20220406
DTEND;VALUE=DATE:20220409
DTSTAMP:20260424T165857
CREATED:20210714T061147Z
LAST-MODIFIED:20210714T061147Z
UID:4337-1649275200-1649447999@kennettsquarepreschool.com
SUMMARY:Spring Parties
DESCRIPTION:
URL:https://kennettsquarepreschool.com/schedule/spring-parties-2/
CATEGORIES:Party
END:VEVENT
BEGIN:VEVENT
DTSTART;VALUE=DATE:20220315
DTEND;VALUE=DATE:20220318
DTSTAMP:20260424T165857
CREATED:20210714T061032Z
LAST-MODIFIED:20210714T061032Z
UID:4331-1647374400-1647547199@kennettsquarepreschool.com
SUMMARY:St. Patrick's Day Parties
DESCRIPTION:
URL:https://kennettsquarepreschool.com/schedule/st-patricks-day-parties-2/
CATEGORIES:Party
END:VEVENT
BEGIN:VEVENT
DTSTART;VALUE=DATE:20220228
DTEND;VALUE=DATE:20220303
DTSTAMP:20260424T165857
CREATED:20210714T060930Z
LAST-MODIFIED:20210714T060930Z
UID:4327-1646074800-1646247599@kennettsquarepreschool.com
SUMMARY:Dr. Seuss Days
DESCRIPTION:
URL:https://kennettsquarepreschool.com/schedule/dr-seuss-days-2/
CATEGORIES:Party
END:VEVENT
BEGIN:VEVENT
DTSTART;VALUE=DATE:20220213
DTEND;VALUE=DATE:20220216
DTSTAMP:20260424T165857
CREATED:20210714T060724Z
LAST-MODIFIED:20210714T060724Z
UID:4321-1644778800-1644951599@kennettsquarepreschool.com
SUMMARY:Valentine's Day Parties
DESCRIPTION:
URL:https://kennettsquarepreschool.com/schedule/valentines-day-parties-2/
CATEGORIES:Party
END:VEVENT
BEGIN:VEVENT
DTSTART;TZID=America/New_York:20220210T030000
DTEND;TZID=America/New_York:20220210T120000
DTSTAMP:20260424T165857
CREATED:20210714T060658Z
LAST-MODIFIED:20210714T060658Z
UID:4319-1644462000-1644494400@kennettsquarepreschool.com
SUMMARY:Valentine's Day Dance
DESCRIPTION:
URL:https://kennettsquarepreschool.com/schedule/valentines-day-dance-2/
CATEGORIES:Party
END:VEVENT
BEGIN:VEVENT
DTSTART;VALUE=DATE:20220126
DTEND;VALUE=DATE:20220129
DTSTAMP:20260424T165857
CREATED:20210714T060532Z
LAST-MODIFIED:20210714T060532Z
UID:4313-1643223600-1643396399@kennettsquarepreschool.com
SUMMARY:Teddy Bear Picnic Days
DESCRIPTION:
URL:https://kennettsquarepreschool.com/schedule/teddy-bear-picnic-days-2/
CATEGORIES:Party
END:VEVENT
BEGIN:VEVENT
DTSTART;TZID=America/New_York:20211217T060000
DTEND;TZID=America/New_York:20211217T070000
DTSTAMP:20260424T165857
CREATED:20210714T060012Z
LAST-MODIFIED:20210714T060012Z
UID:4299-1639720800-1639724400@kennettsquarepreschool.com
SUMMARY:Holiday Program
DESCRIPTION:
URL:https://kennettsquarepreschool.com/schedule/holiday-program-3/
CATEGORIES:Party
END:VEVENT
BEGIN:VEVENT
DTSTART;TZID=America/New_York:20211217T040000
DTEND;TZID=America/New_York:20211217T050000
DTSTAMP:20260424T165857
CREATED:20210714T055905Z
LAST-MODIFIED:20210714T055905Z
UID:4297-1639713600-1639717200@kennettsquarepreschool.com
SUMMARY:Holiday Program
DESCRIPTION:
URL:https://kennettsquarepreschool.com/schedule/holiday-program-2/
CATEGORIES:Party
END:VEVENT
BEGIN:VEVENT
DTSTART;VALUE=DATE:20211212
DTEND;VALUE=DATE:20211215
DTSTAMP:20260424T165857
CREATED:20210714T055821Z
LAST-MODIFIED:20210714T055821Z
UID:4295-1639335600-1639508399@kennettsquarepreschool.com
SUMMARY:Polar Express
DESCRIPTION:
URL:https://kennettsquarepreschool.com/schedule/polar-express-2/
CATEGORIES:Party
END:VEVENT
BEGIN:VEVENT
DTSTART;VALUE=DATE:20211121
DTEND;VALUE=DATE:20211124
DTSTAMP:20260424T165857
CREATED:20210714T055332Z
LAST-MODIFIED:20210714T055332Z
UID:4289-1637521200-1637693999@kennettsquarepreschool.com
SUMMARY:Thanksgiving Feasts
DESCRIPTION:
URL:https://kennettsquarepreschool.com/schedule/thanksgiving-feasts-2/
CATEGORIES:Party
END:VEVENT
BEGIN:VEVENT
DTSTART;VALUE=DATE:20211027
DTEND;VALUE=DATE:20211030
DTSTAMP:20260424T165857
CREATED:20210714T054949Z
LAST-MODIFIED:20210714T054949Z
UID:4283-1635364800-1635537599@kennettsquarepreschool.com
SUMMARY:Halloween Parades/Parties
DESCRIPTION:
URL:https://kennettsquarepreschool.com/schedule/halloween-parades-parties/
CATEGORIES:Party
END:VEVENT
BEGIN:VEVENT
DTSTART;TZID=America/New_York:20211007T140000
DTEND;TZID=America/New_York:20211007T153000
DTSTAMP:20260424T165857
CREATED:20210714T054917Z
LAST-MODIFIED:20210714T054917Z
UID:4281-1633615200-1633620600@kennettsquarepreschool.com
SUMMARY:Halloween Dance
DESCRIPTION:
URL:https://kennettsquarepreschool.com/schedule/halloween-dance/
CATEGORIES:Party
END:VEVENT
BEGIN:VEVENT
DTSTART;VALUE=DATE:20210324
DTEND;VALUE=DATE:20210327
DTSTAMP:20260424T165857
CREATED:20201116T064705Z
LAST-MODIFIED:20201116T064705Z
UID:4090-1616616000-1616788799@kennettsquarepreschool.com
SUMMARY:Spring Parties
DESCRIPTION:
URL:https://kennettsquarepreschool.com/schedule/spring-parties/
CATEGORIES:Party
END:VEVENT
BEGIN:VEVENT
DTSTART;VALUE=DATE:20210315
DTEND;VALUE=DATE:20210318
DTSTAMP:20260424T165857
CREATED:20201116T064632Z
LAST-MODIFIED:20201116T064632Z
UID:4088-1615838400-1616011199@kennettsquarepreschool.com
SUMMARY:St. Patrick's Day Parties
DESCRIPTION:
URL:https://kennettsquarepreschool.com/schedule/st-patricks-day-parties/
CATEGORIES:Party
END:VEVENT
BEGIN:VEVENT
DTSTART;VALUE=DATE:20210210
DTEND;VALUE=DATE:20210213
DTSTAMP:20260424T165857
CREATED:20201116T064006Z
LAST-MODIFIED:20201116T064006Z
UID:4076-1612983600-1613156399@kennettsquarepreschool.com
SUMMARY:Valentine's Day Parties
DESCRIPTION:
URL:https://kennettsquarepreschool.com/schedule/valentines-day-parties/
CATEGORIES:Party
END:VEVENT
BEGIN:VEVENT
DTSTART;VALUE=DATE:20201214
DTEND;VALUE=DATE:20201217
DTSTAMP:20260424T165857
CREATED:20201116T062708Z
LAST-MODIFIED:20201116T182526Z
UID:4054-1607972400-1608145199@kennettsquarepreschool.com
SUMMARY:Holiday Parties
DESCRIPTION:
URL:https://kennettsquarepreschool.com/schedule/holiday-parties/
CATEGORIES:Party
END:VEVENT
END:VCALENDAR