BEGIN:VCALENDAR
VERSION:2.0
PRODID:-//Kennett Square Preschool - ECPv6.15.10//NONSGML v1.0//EN
CALSCALE:GREGORIAN
METHOD:PUBLISH
X-ORIGINAL-URL:https://kennettsquarepreschool.com
X-WR-CALDESC:Events for Kennett Square Preschool
REFRESH-INTERVAL;VALUE=DURATION:PT1H
X-Robots-Tag:noindex
X-PUBLISHED-TTL:PT1H
BEGIN:VTIMEZONE
TZID:America/New_York
BEGIN:DAYLIGHT
TZOFFSETFROM:-0500
TZOFFSETTO:-0400
TZNAME:EDT
DTSTART:20210314T070000
END:DAYLIGHT
BEGIN:STANDARD
TZOFFSETFROM:-0400
TZOFFSETTO:-0500
TZNAME:EST
DTSTART:20211107T060000
END:STANDARD
BEGIN:DAYLIGHT
TZOFFSETFROM:-0500
TZOFFSETTO:-0400
TZNAME:EDT
DTSTART:20220313T070000
END:DAYLIGHT
BEGIN:STANDARD
TZOFFSETFROM:-0400
TZOFFSETTO:-0500
TZNAME:EST
DTSTART:20221106T060000
END:STANDARD
BEGIN:DAYLIGHT
TZOFFSETFROM:-0500
TZOFFSETTO:-0400
TZNAME:EDT
DTSTART:20230312T070000
END:DAYLIGHT
BEGIN:STANDARD
TZOFFSETFROM:-0400
TZOFFSETTO:-0500
TZNAME:EST
DTSTART:20231105T060000
END:STANDARD
BEGIN:DAYLIGHT
TZOFFSETFROM:-0500
TZOFFSETTO:-0400
TZNAME:EDT
DTSTART:20240310T070000
END:DAYLIGHT
BEGIN:STANDARD
TZOFFSETFROM:-0400
TZOFFSETTO:-0500
TZNAME:EST
DTSTART:20241103T060000
END:STANDARD
BEGIN:DAYLIGHT
TZOFFSETFROM:-0500
TZOFFSETTO:-0400
TZNAME:EDT
DTSTART:20250309T070000
END:DAYLIGHT
BEGIN:STANDARD
TZOFFSETFROM:-0400
TZOFFSETTO:-0500
TZNAME:EST
DTSTART:20251102T060000
END:STANDARD
END:VTIMEZONE
BEGIN:VEVENT
DTSTART;VALUE=DATE:20240519
DTEND;VALUE=DATE:20240521
DTSTAMP:20260424T134417
CREATED:20230715T163742Z
LAST-MODIFIED:20230715T163742Z
UID:4719-1716148800-1716235200@kennettsquarepreschool.com
SUMMARY:Last Day for Students/School Celebration
DESCRIPTION:
URL:https://kennettsquarepreschool.com/schedule/last-day-for-students-school-celebration/
CATEGORIES:Party
END:VEVENT
BEGIN:VEVENT
DTSTART;VALUE=DATE:20240318
DTEND;VALUE=DATE:20240320
DTSTAMP:20260424T134417
CREATED:20230715T163254Z
LAST-MODIFIED:20230715T163254Z
UID:4697-1710792000-1710878400@kennettsquarepreschool.com
SUMMARY:Spring Parties
DESCRIPTION:
URL:https://kennettsquarepreschool.com/schedule/spring-parties-4/
CATEGORIES:Party
END:VEVENT
BEGIN:VEVENT
DTSTART;VALUE=DATE:20240313
DTEND;VALUE=DATE:20240315
DTSTAMP:20260424T134417
CREATED:20230715T163230Z
LAST-MODIFIED:20230715T163230Z
UID:4695-1710360000-1710446400@kennettsquarepreschool.com
SUMMARY:St. Patrick's Day Parties
DESCRIPTION:
URL:https://kennettsquarepreschool.com/schedule/st-patricks-day-parties-4/
CATEGORIES:Party
END:VEVENT
BEGIN:VEVENT
DTSTART;VALUE=DATE:20240227
DTEND;VALUE=DATE:20240301
DTSTAMP:20260424T134417
CREATED:20230715T163133Z
LAST-MODIFIED:20230715T163133Z
UID:4691-1709060400-1709233200@kennettsquarepreschool.com
SUMMARY:Dr. Seuss Days
DESCRIPTION:
URL:https://kennettsquarepreschool.com/schedule/dr-seuss-days-4/
CATEGORIES:Party
END:VEVENT
BEGIN:VEVENT
DTSTART;VALUE=DATE:20240212
DTEND;VALUE=DATE:20240214
DTSTAMP:20260424T134417
CREATED:20230715T163025Z
LAST-MODIFIED:20230715T163025Z
UID:4687-1707764400-1707850800@kennettsquarepreschool.com
SUMMARY:Valentine's Day Parties
DESCRIPTION:
URL:https://kennettsquarepreschool.com/schedule/valentines-day-parties-4/
CATEGORIES:Party
END:VEVENT
BEGIN:VEVENT
DTSTART;VALUE=DATE:20240207
DTEND;VALUE=DATE:20240208
DTSTAMP:20260424T134417
CREATED:20230715T162952Z
LAST-MODIFIED:20230715T162952Z
UID:4685-1707332400-1707332400@kennettsquarepreschool.com
SUMMARY:Valentine's Day Dance*
DESCRIPTION:*Dates subject to change
URL:https://kennettsquarepreschool.com/schedule/valentines-day-dance-4/
CATEGORIES:Party
END:VEVENT
BEGIN:VEVENT
DTSTART;VALUE=DATE:20240124
DTEND;VALUE=DATE:20240126
DTSTAMP:20260424T134417
CREATED:20230715T162808Z
LAST-MODIFIED:20230715T162808Z
UID:4677-1706122800-1706209200@kennettsquarepreschool.com
SUMMARY:Teddy Bear Picnic
DESCRIPTION:
URL:https://kennettsquarepreschool.com/schedule/teddy-bear-picnic/
CATEGORIES:Party
END:VEVENT
BEGIN:VEVENT
DTSTART;VALUE=DATE:20231210
DTEND;VALUE=DATE:20231212
DTSTAMP:20260424T134417
CREATED:20230715T162013Z
LAST-MODIFIED:20230715T162013Z
UID:4657-1702234800-1702321200@kennettsquarepreschool.com
SUMMARY:Polar Express*
DESCRIPTION:*Dates are subject to change
URL:https://kennettsquarepreschool.com/schedule/polar-express-4/
CATEGORIES:Party
END:VEVENT
BEGIN:VEVENT
DTSTART;VALUE=DATE:20231119
DTEND;VALUE=DATE:20231121
DTSTAMP:20260424T134417
CREATED:20230715T161818Z
LAST-MODIFIED:20230715T161818Z
UID:4651-1700420400-1700506800@kennettsquarepreschool.com
SUMMARY:Thanksgiving Feasts
DESCRIPTION:
URL:https://kennettsquarepreschool.com/schedule/thanksgiving-feasts-4/
CATEGORIES:Party
END:VEVENT
BEGIN:VEVENT
DTSTART;VALUE=DATE:20231029
DTEND;VALUE=DATE:20231031
DTSTAMP:20260424T134417
CREATED:20230715T161622Z
LAST-MODIFIED:20230715T161622Z
UID:4645-1698609600-1698696000@kennettsquarepreschool.com
SUMMARY:Halloween Parades/Parties
DESCRIPTION:
URL:https://kennettsquarepreschool.com/schedule/halloween-parades-parties-3/
CATEGORIES:Party
END:VEVENT
BEGIN:VEVENT
DTSTART;VALUE=DATE:20230517
DTEND;VALUE=DATE:20230520
DTSTAMP:20260424T134417
CREATED:20220516T044327Z
LAST-MODIFIED:20220516T044340Z
UID:4533-1684353600-1684526399@kennettsquarepreschool.com
SUMMARY:Last Day for Students Celebration
DESCRIPTION:
URL:https://kennettsquarepreschool.com/schedule/last-day-for-students-2/
CATEGORIES:Party
END:VEVENT
BEGIN:VEVENT
DTSTART;VALUE=DATE:20230327
DTEND;VALUE=DATE:20230330
DTSTAMP:20260424T134417
CREATED:20220516T043716Z
LAST-MODIFIED:20220516T043716Z
UID:4513-1679947200-1680119999@kennettsquarepreschool.com
SUMMARY:Spring Parties
DESCRIPTION:
URL:https://kennettsquarepreschool.com/schedule/spring-parties-3/
CATEGORIES:Party
END:VEVENT
BEGIN:VEVENT
DTSTART;VALUE=DATE:20230315
DTEND;VALUE=DATE:20230318
DTSTAMP:20260424T134417
CREATED:20220516T043648Z
LAST-MODIFIED:20220516T043648Z
UID:4511-1678910400-1679083199@kennettsquarepreschool.com
SUMMARY:St. Patrick's Day Parties
DESCRIPTION:
URL:https://kennettsquarepreschool.com/schedule/st-patricks-day-parties-3/
CATEGORIES:Party
END:VEVENT
BEGIN:VEVENT
DTSTART;VALUE=DATE:20230228
DTEND;VALUE=DATE:20230303
DTSTAMP:20260424T134417
CREATED:20220516T043555Z
LAST-MODIFIED:20220516T043555Z
UID:4507-1677610800-1677783599@kennettsquarepreschool.com
SUMMARY:Dr. Seuss Days
DESCRIPTION:
URL:https://kennettsquarepreschool.com/schedule/dr-seuss-days-3/
CATEGORIES:Party
END:VEVENT
BEGIN:VEVENT
DTSTART;VALUE=DATE:20230212
DTEND;VALUE=DATE:20230215
DTSTAMP:20260424T134417
CREATED:20220516T043259Z
LAST-MODIFIED:20220516T043259Z
UID:4501-1676228400-1676401199@kennettsquarepreschool.com
SUMMARY:Valentine's Day Parties
DESCRIPTION:
URL:https://kennettsquarepreschool.com/schedule/valentines-day-parties-3/
CATEGORIES:Party
END:VEVENT
BEGIN:VEVENT
DTSTART;TZID=America/New_York:20230209T130000
DTEND;TZID=America/New_York:20230209T143000
DTSTAMP:20260424T134417
CREATED:20220516T043231Z
LAST-MODIFIED:20220516T043231Z
UID:4499-1675947600-1675953000@kennettsquarepreschool.com
SUMMARY:Valentine's Day Dance*
DESCRIPTION:*Date subject to change due to COVID 19
URL:https://kennettsquarepreschool.com/schedule/valentines-day-dance-3/
CATEGORIES:Party
END:VEVENT
BEGIN:VEVENT
DTSTART;VALUE=DATE:20230125
DTEND;VALUE=DATE:20230128
DTSTAMP:20260424T134417
CREATED:20220516T043121Z
LAST-MODIFIED:20220516T043121Z
UID:4495-1674673200-1674845999@kennettsquarepreschool.com
SUMMARY:Teddy Bear Picnics
DESCRIPTION:
URL:https://kennettsquarepreschool.com/schedule/teddy-bear-picnics/
CATEGORIES:Party
END:VEVENT
BEGIN:VEVENT
DTSTART;VALUE=DATE:20221213
DTEND;VALUE=DATE:20221216
DTSTAMP:20260424T134417
CREATED:20220516T042221Z
LAST-MODIFIED:20220516T042221Z
UID:4475-1670958000-1671130799@kennettsquarepreschool.com
SUMMARY:Holiday Parties
DESCRIPTION:
URL:https://kennettsquarepreschool.com/schedule/holiday-parties-2/
CATEGORIES:Party
END:VEVENT
BEGIN:VEVENT
DTSTART;VALUE=DATE:20221211
DTEND;VALUE=DATE:20221214
DTSTAMP:20260424T134417
CREATED:20220516T042327Z
LAST-MODIFIED:20220516T042327Z
UID:4477-1670785200-1670957999@kennettsquarepreschool.com
SUMMARY:Polar Express*
DESCRIPTION:*Dates subject to change due to COVID 19
URL:https://kennettsquarepreschool.com/schedule/polar-express-3/
CATEGORIES:Party
END:VEVENT
BEGIN:VEVENT
DTSTART;VALUE=DATE:20221120
DTEND;VALUE=DATE:20221123
DTSTAMP:20260424T134417
CREATED:20220516T042034Z
LAST-MODIFIED:20220516T042034Z
UID:4469-1668970800-1669143599@kennettsquarepreschool.com
SUMMARY:Thanksgiving Feasts
DESCRIPTION:
URL:https://kennettsquarepreschool.com/schedule/thanksgiving-feasts-3/
CATEGORIES:Party
END:VEVENT
BEGIN:VEVENT
DTSTART;VALUE=DATE:20221026
DTEND;VALUE=DATE:20221029
DTSTAMP:20260424T134417
CREATED:20220503T055202Z
LAST-MODIFIED:20220503T055202Z
UID:4460-1666814400-1666987199@kennettsquarepreschool.com
SUMMARY:Halloween Parades/Parties
DESCRIPTION:
URL:https://kennettsquarepreschool.com/schedule/halloween-parades-parties-2/
CATEGORIES:Party
END:VEVENT
BEGIN:VEVENT
DTSTART;TZID=America/New_York:20221006T133000
DTEND;TZID=America/New_York:20221006T150000
DTSTAMP:20260424T134417
CREATED:20220503T055135Z
LAST-MODIFIED:20220503T055135Z
UID:4458-1665063000-1665068400@kennettsquarepreschool.com
SUMMARY:Halloween Dance
DESCRIPTION:
URL:https://kennettsquarepreschool.com/schedule/halloween-dance-2/
CATEGORIES:Party
END:VEVENT
BEGIN:VEVENT
DTSTART;VALUE=DATE:20220522
DTEND;VALUE=DATE:20220525
DTSTAMP:20260424T134417
CREATED:20210714T061719Z
LAST-MODIFIED:20210714T061719Z
UID:4355-1653249600-1653422399@kennettsquarepreschool.com
SUMMARY:Last Day for Students
DESCRIPTION:Slide Show!
URL:https://kennettsquarepreschool.com/schedule/last-day-for-students/
CATEGORIES:Party
END:VEVENT
BEGIN:VEVENT
DTSTART;VALUE=DATE:20220504
DTEND;VALUE=DATE:20220507
DTSTAMP:20260424T134417
CREATED:20210714T061506Z
LAST-MODIFIED:20210714T061506Z
UID:4349-1651694400-1651867199@kennettsquarepreschool.com
SUMMARY:Mother's Day Presentations
DESCRIPTION:
URL:https://kennettsquarepreschool.com/schedule/mothers-day-presentations-2/
CATEGORIES:Party
END:VEVENT
BEGIN:VEVENT
DTSTART;VALUE=DATE:20220406
DTEND;VALUE=DATE:20220409
DTSTAMP:20260424T134417
CREATED:20210714T061147Z
LAST-MODIFIED:20210714T061147Z
UID:4337-1649275200-1649447999@kennettsquarepreschool.com
SUMMARY:Spring Parties
DESCRIPTION:
URL:https://kennettsquarepreschool.com/schedule/spring-parties-2/
CATEGORIES:Party
END:VEVENT
BEGIN:VEVENT
DTSTART;VALUE=DATE:20220315
DTEND;VALUE=DATE:20220318
DTSTAMP:20260424T134417
CREATED:20210714T061032Z
LAST-MODIFIED:20210714T061032Z
UID:4331-1647374400-1647547199@kennettsquarepreschool.com
SUMMARY:St. Patrick's Day Parties
DESCRIPTION:
URL:https://kennettsquarepreschool.com/schedule/st-patricks-day-parties-2/
CATEGORIES:Party
END:VEVENT
BEGIN:VEVENT
DTSTART;VALUE=DATE:20220228
DTEND;VALUE=DATE:20220303
DTSTAMP:20260424T134417
CREATED:20210714T060930Z
LAST-MODIFIED:20210714T060930Z
UID:4327-1646074800-1646247599@kennettsquarepreschool.com
SUMMARY:Dr. Seuss Days
DESCRIPTION:
URL:https://kennettsquarepreschool.com/schedule/dr-seuss-days-2/
CATEGORIES:Party
END:VEVENT
BEGIN:VEVENT
DTSTART;VALUE=DATE:20220213
DTEND;VALUE=DATE:20220216
DTSTAMP:20260424T134417
CREATED:20210714T060724Z
LAST-MODIFIED:20210714T060724Z
UID:4321-1644778800-1644951599@kennettsquarepreschool.com
SUMMARY:Valentine's Day Parties
DESCRIPTION:
URL:https://kennettsquarepreschool.com/schedule/valentines-day-parties-2/
CATEGORIES:Party
END:VEVENT
BEGIN:VEVENT
DTSTART;TZID=America/New_York:20220210T030000
DTEND;TZID=America/New_York:20220210T120000
DTSTAMP:20260424T134417
CREATED:20210714T060658Z
LAST-MODIFIED:20210714T060658Z
UID:4319-1644462000-1644494400@kennettsquarepreschool.com
SUMMARY:Valentine's Day Dance
DESCRIPTION:
URL:https://kennettsquarepreschool.com/schedule/valentines-day-dance-2/
CATEGORIES:Party
END:VEVENT
BEGIN:VEVENT
DTSTART;VALUE=DATE:20220126
DTEND;VALUE=DATE:20220129
DTSTAMP:20260424T134417
CREATED:20210714T060532Z
LAST-MODIFIED:20210714T060532Z
UID:4313-1643223600-1643396399@kennettsquarepreschool.com
SUMMARY:Teddy Bear Picnic Days
DESCRIPTION:
URL:https://kennettsquarepreschool.com/schedule/teddy-bear-picnic-days-2/
CATEGORIES:Party
END:VEVENT
END:VCALENDAR